BEGIN:VCALENDAR
VERSION:2.0
PRODID:-//Immanuel Presbyterian Church - ECPv6.15.20//NONSGML v1.0//EN
CALSCALE:GREGORIAN
METHOD:PUBLISH
X-WR-CALNAME:Immanuel Presbyterian Church
X-ORIGINAL-URL:https://immanuelpresby.org
X-WR-CALDESC:Events for Immanuel Presbyterian Church
REFRESH-INTERVAL;VALUE=DURATION:PT1H
X-Robots-Tag:noindex
X-PUBLISHED-TTL:PT1H
BEGIN:VTIMEZONE
TZID:America/New_York
BEGIN:DAYLIGHT
TZOFFSETFROM:-0500
TZOFFSETTO:-0400
TZNAME:EDT
DTSTART:20220313T070000
END:DAYLIGHT
BEGIN:STANDARD
TZOFFSETFROM:-0400
TZOFFSETTO:-0500
TZNAME:EST
DTSTART:20221106T060000
END:STANDARD
BEGIN:DAYLIGHT
TZOFFSETFROM:-0500
TZOFFSETTO:-0400
TZNAME:EDT
DTSTART:20230312T070000
END:DAYLIGHT
BEGIN:STANDARD
TZOFFSETFROM:-0400
TZOFFSETTO:-0500
TZNAME:EST
DTSTART:20231105T060000
END:STANDARD
BEGIN:DAYLIGHT
TZOFFSETFROM:-0500
TZOFFSETTO:-0400
TZNAME:EDT
DTSTART:20240310T070000
END:DAYLIGHT
BEGIN:STANDARD
TZOFFSETFROM:-0400
TZOFFSETTO:-0500
TZNAME:EST
DTSTART:20241103T060000
END:STANDARD
END:VTIMEZONE
BEGIN:VEVENT
DTSTART;TZID=America/New_York:20230302T193000
DTEND;TZID=America/New_York:20230302T210000
DTSTAMP:20260425T091512
CREATED:20221222T211152Z
LAST-MODIFIED:20230401T212309Z
UID:10000003-1677785400-1677790800@immanuelpresby.org
SUMMARY:Pub Theology
DESCRIPTION:Join us for an informal gathering for conversations about God and daily life. \nLocation: Upside Brew on Ludlow in Clifton\, OH. \n  \n 
URL:https://immanuelpresby.org/event/pub-theology-3-2/2023-03-02/
LOCATION:OH
ATTACH;FMTTYPE=image/jpeg:https://immanuelpresby.org/wp-content/uploads/2022/12/pub-theology-2.jpeg
END:VEVENT
BEGIN:VEVENT
DTSTART;TZID=America/New_York:20230305T103000
DTEND;TZID=America/New_York:20230305T113000
DTSTAMP:20260425T091512
CREATED:20221005T015744Z
LAST-MODIFIED:20221005T015744Z
UID:10000472-1678012200-1678015800@immanuelpresby.org
SUMMARY:Worship
DESCRIPTION:Communion Sunday
URL:https://immanuelpresby.org/event/worship-18/2023-03-05/
LOCATION:OH
ATTACH;FMTTYPE=image/jpeg:https://immanuelpresby.org/wp-content/uploads/2020/01/Immanuel-5.jpg
END:VEVENT
BEGIN:VEVENT
DTSTART;TZID=America/New_York:20230312T080000
DTEND;TZID=America/New_York:20230312T170000
DTSTAMP:20260425T091512
CREATED:20221005T015447Z
LAST-MODIFIED:20221005T015447Z
UID:10000484-1678608000-1678640400@immanuelpresby.org
SUMMARY:Worship
DESCRIPTION:
URL:https://immanuelpresby.org/event/worship-17/2023-03-12/
LOCATION:OH
ATTACH;FMTTYPE=image/jpeg:https://immanuelpresby.org/wp-content/uploads/2019/11/46104985_1712164315555200_3081857262168309760_o.jpg
END:VEVENT
BEGIN:VEVENT
DTSTART;TZID=America/New_York:20230316T193000
DTEND;TZID=America/New_York:20230316T210000
DTSTAMP:20260425T091512
CREATED:20230401T211740Z
LAST-MODIFIED:20230401T211740Z
UID:10000015-1678995000-1679000400@immanuelpresby.org
SUMMARY:Pub Theology
DESCRIPTION:Join us for an informal gathering for conversations about God and daily life. \nLocation: Upside Brew on Ludlow in Clifton\, OH. \n  \n 
URL:https://immanuelpresby.org/event/pub-theology-3/2023-03-16/
LOCATION:OH
ATTACH;FMTTYPE=image/jpeg:https://immanuelpresby.org/wp-content/uploads/2022/12/pub-theology-2.jpeg
END:VEVENT
BEGIN:VEVENT
DTSTART;TZID=America/New_York:20230319T080000
DTEND;TZID=America/New_York:20230319T170000
DTSTAMP:20260425T091512
CREATED:20221005T015447Z
LAST-MODIFIED:20221005T015447Z
UID:10000485-1679212800-1679245200@immanuelpresby.org
SUMMARY:Worship
DESCRIPTION:
URL:https://immanuelpresby.org/event/worship-17/2023-03-19/
LOCATION:OH
ATTACH;FMTTYPE=image/jpeg:https://immanuelpresby.org/wp-content/uploads/2019/11/46104985_1712164315555200_3081857262168309760_o.jpg
END:VEVENT
BEGIN:VEVENT
DTSTART;TZID=America/New_York:20230326T080000
DTEND;TZID=America/New_York:20230326T170000
DTSTAMP:20260425T091512
CREATED:20221005T015447Z
LAST-MODIFIED:20221005T015447Z
UID:10000486-1679817600-1679850000@immanuelpresby.org
SUMMARY:Worship
DESCRIPTION:
URL:https://immanuelpresby.org/event/worship-17/2023-03-26/
LOCATION:OH
ATTACH;FMTTYPE=image/jpeg:https://immanuelpresby.org/wp-content/uploads/2019/11/46104985_1712164315555200_3081857262168309760_o.jpg
END:VEVENT
END:VCALENDAR