BEGIN:VCALENDAR
VERSION:2.0
PRODID:-//Immanuel Presbyterian Church - ECPv6.15.20//NONSGML v1.0//EN
CALSCALE:GREGORIAN
METHOD:PUBLISH
X-WR-CALNAME:Immanuel Presbyterian Church
X-ORIGINAL-URL:https://immanuelpresby.org
X-WR-CALDESC:Events for Immanuel Presbyterian Church
REFRESH-INTERVAL;VALUE=DURATION:PT1H
X-Robots-Tag:noindex
X-PUBLISHED-TTL:PT1H
BEGIN:VTIMEZONE
TZID:America/New_York
BEGIN:DAYLIGHT
TZOFFSETFROM:-0500
TZOFFSETTO:-0400
TZNAME:EDT
DTSTART:20230312T070000
END:DAYLIGHT
BEGIN:STANDARD
TZOFFSETFROM:-0400
TZOFFSETTO:-0500
TZNAME:EST
DTSTART:20231105T060000
END:STANDARD
BEGIN:DAYLIGHT
TZOFFSETFROM:-0500
TZOFFSETTO:-0400
TZNAME:EDT
DTSTART:20240310T070000
END:DAYLIGHT
BEGIN:STANDARD
TZOFFSETFROM:-0400
TZOFFSETTO:-0500
TZNAME:EST
DTSTART:20241103T060000
END:STANDARD
BEGIN:DAYLIGHT
TZOFFSETFROM:-0500
TZOFFSETTO:-0400
TZNAME:EDT
DTSTART:20250309T070000
END:DAYLIGHT
BEGIN:STANDARD
TZOFFSETFROM:-0400
TZOFFSETTO:-0500
TZNAME:EST
DTSTART:20251102T060000
END:STANDARD
END:VTIMEZONE
BEGIN:VEVENT
DTSTART;TZID=America/New_York:20241201T103000
DTEND;TZID=America/New_York:20241201T113000
DTSTAMP:20260422T023157
CREATED:20230401T210233Z
LAST-MODIFIED:20230401T211958Z
UID:10000602-1733049000-1733052600@immanuelpresby.org
SUMMARY:Worship
DESCRIPTION:
URL:https://immanuelpresby.org/event/worship-19/2024-12-01/
LOCATION:OH
END:VEVENT
BEGIN:VEVENT
DTSTART;TZID=America/New_York:20241208T103000
DTEND;TZID=America/New_York:20241208T113000
DTSTAMP:20260422T023157
CREATED:20230401T210233Z
LAST-MODIFIED:20230401T211958Z
UID:10000603-1733653800-1733657400@immanuelpresby.org
SUMMARY:Worship
DESCRIPTION:
URL:https://immanuelpresby.org/event/worship-19/2024-12-08/
LOCATION:OH
END:VEVENT
BEGIN:VEVENT
DTSTART;TZID=America/New_York:20241213T180000
DTEND;TZID=America/New_York:20241213T200000
DTSTAMP:20260422T023157
CREATED:20241105T221820Z
LAST-MODIFIED:20241105T221820Z
UID:10000781-1734112800-1734120000@immanuelpresby.org
SUMMARY:Christmas Fest
DESCRIPTION:
URL:https://immanuelpresby.org/event/christmas-fest-2/
LOCATION:Immanuel Presbyterian\, 3445 Clifton Avenue\, Cincinnati\, OH\, 45220
END:VEVENT
BEGIN:VEVENT
DTSTART;TZID=America/New_York:20241215T103000
DTEND;TZID=America/New_York:20241215T113000
DTSTAMP:20260422T023157
CREATED:20230401T210233Z
LAST-MODIFIED:20230401T211958Z
UID:10000604-1734258600-1734262200@immanuelpresby.org
SUMMARY:Worship
DESCRIPTION:
URL:https://immanuelpresby.org/event/worship-19/2024-12-15/
LOCATION:OH
END:VEVENT
BEGIN:VEVENT
DTSTART;TZID=America/New_York:20241222T103000
DTEND;TZID=America/New_York:20241222T113000
DTSTAMP:20260422T023157
CREATED:20230401T210233Z
LAST-MODIFIED:20230401T211958Z
UID:10000605-1734863400-1734867000@immanuelpresby.org
SUMMARY:Worship
DESCRIPTION:
URL:https://immanuelpresby.org/event/worship-19/2024-12-22/
LOCATION:OH
END:VEVENT
BEGIN:VEVENT
DTSTART;TZID=America/New_York:20241229T103000
DTEND;TZID=America/New_York:20241229T113000
DTSTAMP:20260422T023157
CREATED:20230401T210233Z
LAST-MODIFIED:20230401T211958Z
UID:10000606-1735468200-1735471800@immanuelpresby.org
SUMMARY:Worship
DESCRIPTION:
URL:https://immanuelpresby.org/event/worship-19/2024-12-29/
LOCATION:OH
END:VEVENT
END:VCALENDAR