BEGIN:VCALENDAR
VERSION:2.0
PRODID:-//Immanuel Presbyterian Church - ECPv6.15.20//NONSGML v1.0//EN
CALSCALE:GREGORIAN
METHOD:PUBLISH
X-WR-CALNAME:Immanuel Presbyterian Church
X-ORIGINAL-URL:https://immanuelpresby.org
X-WR-CALDESC:Events for Immanuel Presbyterian Church
REFRESH-INTERVAL;VALUE=DURATION:PT1H
X-Robots-Tag:noindex
X-PUBLISHED-TTL:PT1H
BEGIN:VTIMEZONE
TZID:America/New_York
BEGIN:DAYLIGHT
TZOFFSETFROM:-0500
TZOFFSETTO:-0400
TZNAME:EDT
DTSTART:20190310T070000
END:DAYLIGHT
BEGIN:STANDARD
TZOFFSETFROM:-0400
TZOFFSETTO:-0500
TZNAME:EST
DTSTART:20191103T060000
END:STANDARD
BEGIN:DAYLIGHT
TZOFFSETFROM:-0500
TZOFFSETTO:-0400
TZNAME:EDT
DTSTART:20200308T070000
END:DAYLIGHT
BEGIN:STANDARD
TZOFFSETFROM:-0400
TZOFFSETTO:-0500
TZNAME:EST
DTSTART:20201101T060000
END:STANDARD
BEGIN:DAYLIGHT
TZOFFSETFROM:-0500
TZOFFSETTO:-0400
TZNAME:EDT
DTSTART:20210314T070000
END:DAYLIGHT
BEGIN:STANDARD
TZOFFSETFROM:-0400
TZOFFSETTO:-0500
TZNAME:EST
DTSTART:20211107T060000
END:STANDARD
BEGIN:DAYLIGHT
TZOFFSETFROM:-0500
TZOFFSETTO:-0400
TZNAME:EDT
DTSTART:20220313T070000
END:DAYLIGHT
BEGIN:STANDARD
TZOFFSETFROM:-0400
TZOFFSETTO:-0500
TZNAME:EST
DTSTART:20221106T060000
END:STANDARD
BEGIN:DAYLIGHT
TZOFFSETFROM:-0500
TZOFFSETTO:-0400
TZNAME:EDT
DTSTART:20230312T070000
END:DAYLIGHT
BEGIN:STANDARD
TZOFFSETFROM:-0400
TZOFFSETTO:-0500
TZNAME:EST
DTSTART:20231105T060000
END:STANDARD
END:VTIMEZONE
BEGIN:VEVENT
DTSTART;TZID=America/New_York:20220501T103000
DTEND;TZID=America/New_York:20220501T123000
DTSTAMP:20260420T014807
CREATED:20220428T000812Z
LAST-MODIFIED:20220428T001140Z
UID:10000466-1651401000-1651408200@immanuelpresby.org
SUMMARY:Fill the Cart for St. George!
DESCRIPTION:Items Needed for St. George Interfaith Food Pantry \n\nCleaning Supplies\nPaper Towels\nTissues\nQuart Size Ziplock Bags\nEasy Open Quick Snacks for Kids\nPowdered Laundry Detergent\nSmall Dish Detergent\nPersonal Items\n\nUnscented Body Wash\nUnscented Shampoo & Conditione\nToothpaste
URL:https://immanuelpresby.org/event/fill-the-cart-for-st-george/2022-05-01/
LOCATION:OH
ATTACH;FMTTYPE=image/png:https://immanuelpresby.org/wp-content/uploads/2022/04/fill-the-cart-1.png
END:VEVENT
BEGIN:VEVENT
DTSTART;TZID=America/New_York:20211226T103000
DTEND;TZID=America/New_York:20211226T113000
DTSTAMP:20260420T014807
CREATED:20211019T203521Z
LAST-MODIFIED:20211019T203746Z
UID:10000430-1640514600-1640518200@immanuelpresby.org
SUMMARY:Worship
DESCRIPTION:
URL:https://immanuelpresby.org/event/worship-6/2021-12-26/
LOCATION:Immanuel Presbyterian\, 3445 Clifton Avenue\, Cincinnati\, OH\, 45220
ATTACH;FMTTYPE=image/jpeg:https://immanuelpresby.org/wp-content/uploads/2020/01/Immanuel-6.jpg
END:VEVENT
BEGIN:VEVENT
DTSTART;TZID=America/New_York:20211219T103000
DTEND;TZID=America/New_York:20211219T113000
DTSTAMP:20260420T014807
CREATED:20211019T203521Z
LAST-MODIFIED:20211019T203746Z
UID:10000429-1639909800-1639913400@immanuelpresby.org
SUMMARY:Worship
DESCRIPTION:
URL:https://immanuelpresby.org/event/worship-6/2021-12-19/
LOCATION:Immanuel Presbyterian\, 3445 Clifton Avenue\, Cincinnati\, OH\, 45220
ATTACH;FMTTYPE=image/jpeg:https://immanuelpresby.org/wp-content/uploads/2020/01/Immanuel-6.jpg
END:VEVENT
BEGIN:VEVENT
DTSTART;TZID=America/New_York:20211212T103000
DTEND;TZID=America/New_York:20211212T113000
DTSTAMP:20260420T014807
CREATED:20211019T203521Z
LAST-MODIFIED:20211019T203746Z
UID:10000428-1639305000-1639308600@immanuelpresby.org
SUMMARY:Worship
DESCRIPTION:
URL:https://immanuelpresby.org/event/worship-6/2021-12-12/
LOCATION:Immanuel Presbyterian\, 3445 Clifton Avenue\, Cincinnati\, OH\, 45220
ATTACH;FMTTYPE=image/jpeg:https://immanuelpresby.org/wp-content/uploads/2020/01/Immanuel-6.jpg
END:VEVENT
BEGIN:VEVENT
DTSTART;TZID=America/New_York:20211128T103000
DTEND;TZID=America/New_York:20211128T113000
DTSTAMP:20260420T014807
CREATED:20210922T222948Z
LAST-MODIFIED:20210922T223120Z
UID:10000427-1638095400-1638099000@immanuelpresby.org
SUMMARY:Worship
DESCRIPTION:
URL:https://immanuelpresby.org/event/worship-5/2021-11-28/
LOCATION:Immanuel Presbyterian\, 3445 Clifton Avenue\, Cincinnati\, OH\, 45220
ATTACH;FMTTYPE=image/jpeg:https://immanuelpresby.org/wp-content/uploads/2020/01/Immanuel-6.jpg
END:VEVENT
BEGIN:VEVENT
DTSTART;TZID=America/New_York:20211121T103000
DTEND;TZID=America/New_York:20211121T113000
DTSTAMP:20260420T014807
CREATED:20210922T222948Z
LAST-MODIFIED:20210922T223120Z
UID:10000426-1637490600-1637494200@immanuelpresby.org
SUMMARY:Worship
DESCRIPTION:
URL:https://immanuelpresby.org/event/worship-5/2021-11-21/
LOCATION:Immanuel Presbyterian\, 3445 Clifton Avenue\, Cincinnati\, OH\, 45220
ATTACH;FMTTYPE=image/jpeg:https://immanuelpresby.org/wp-content/uploads/2020/01/Immanuel-6.jpg
END:VEVENT
BEGIN:VEVENT
DTSTART;TZID=America/New_York:20211114T103000
DTEND;TZID=America/New_York:20211114T113000
DTSTAMP:20260420T014807
CREATED:20210922T222948Z
LAST-MODIFIED:20210922T223120Z
UID:10000425-1636885800-1636889400@immanuelpresby.org
SUMMARY:Worship
DESCRIPTION:
URL:https://immanuelpresby.org/event/worship-5/2021-11-14/
LOCATION:Immanuel Presbyterian\, 3445 Clifton Avenue\, Cincinnati\, OH\, 45220
ATTACH;FMTTYPE=image/jpeg:https://immanuelpresby.org/wp-content/uploads/2020/01/Immanuel-6.jpg
END:VEVENT
BEGIN:VEVENT
DTSTART;TZID=America/New_York:20211031T103000
DTEND;TZID=America/New_York:20211031T113000
DTSTAMP:20260420T014807
CREATED:20210922T203612Z
LAST-MODIFIED:20210922T203612Z
UID:10000424-1635676200-1635679800@immanuelpresby.org
SUMMARY:Worship
DESCRIPTION:
URL:https://immanuelpresby.org/event/worship-4/2021-10-31/
LOCATION:Immanuel Presbyterian\, 3445 Clifton Avenue\, Cincinnati\, OH\, 45220
ATTACH;FMTTYPE=image/jpeg:https://immanuelpresby.org/wp-content/uploads/2020/01/Immanuel-6.jpg
END:VEVENT
BEGIN:VEVENT
DTSTART;TZID=America/New_York:20211024T153000
DTEND;TZID=America/New_York:20211024T173000
DTSTAMP:20260420T014807
CREATED:20210922T202755Z
LAST-MODIFIED:20210922T203112Z
UID:10000420-1635089400-1635096600@immanuelpresby.org
SUMMARY:Renovation Dedication
DESCRIPTION:
URL:https://immanuelpresby.org/event/renovation-dedication/
LOCATION:Immanuel Presbyterian\, 3445 Clifton Avenue\, Cincinnati\, OH\, 45220
ATTACH;FMTTYPE=image/png:https://immanuelpresby.org/wp-content/uploads/2021/09/Capture.png
END:VEVENT
BEGIN:VEVENT
DTSTART;TZID=America/New_York:20211024T103000
DTEND;TZID=America/New_York:20211024T113000
DTSTAMP:20260420T014807
CREATED:20210922T203612Z
LAST-MODIFIED:20210922T203612Z
UID:10000423-1635071400-1635075000@immanuelpresby.org
SUMMARY:Worship
DESCRIPTION:
URL:https://immanuelpresby.org/event/worship-4/2021-10-24/
LOCATION:Immanuel Presbyterian\, 3445 Clifton Avenue\, Cincinnati\, OH\, 45220
ATTACH;FMTTYPE=image/jpeg:https://immanuelpresby.org/wp-content/uploads/2020/01/Immanuel-6.jpg
END:VEVENT
BEGIN:VEVENT
DTSTART;TZID=America/New_York:20211017T103000
DTEND;TZID=America/New_York:20211017T113000
DTSTAMP:20260420T014807
CREATED:20210922T203612Z
LAST-MODIFIED:20210922T203612Z
UID:10000422-1634466600-1634470200@immanuelpresby.org
SUMMARY:Worship
DESCRIPTION:
URL:https://immanuelpresby.org/event/worship-4/2021-10-17/
LOCATION:Immanuel Presbyterian\, 3445 Clifton Avenue\, Cincinnati\, OH\, 45220
ATTACH;FMTTYPE=image/jpeg:https://immanuelpresby.org/wp-content/uploads/2020/01/Immanuel-6.jpg
END:VEVENT
BEGIN:VEVENT
DTSTART;TZID=America/New_York:20211010T103000
DTEND;TZID=America/New_York:20211010T113000
DTSTAMP:20260420T014807
CREATED:20210922T203612Z
LAST-MODIFIED:20210922T203612Z
UID:10000421-1633861800-1633865400@immanuelpresby.org
SUMMARY:Worship
DESCRIPTION:
URL:https://immanuelpresby.org/event/worship-4/2021-10-10/
LOCATION:Immanuel Presbyterian\, 3445 Clifton Avenue\, Cincinnati\, OH\, 45220
ATTACH;FMTTYPE=image/jpeg:https://immanuelpresby.org/wp-content/uploads/2020/01/Immanuel-6.jpg
END:VEVENT
BEGIN:VEVENT
DTSTART;TZID=America/New_York:20210926T103000
DTEND;TZID=America/New_York:20210926T113000
DTSTAMP:20260420T014807
CREATED:20210816T194022Z
LAST-MODIFIED:20210816T194022Z
UID:10000416-1632652200-1632655800@immanuelpresby.org
SUMMARY:Worship
DESCRIPTION:
URL:https://immanuelpresby.org/event/worship-3/2021-09-26/
LOCATION:Immanuel Presbyterian\, 3445 Clifton Avenue\, Cincinnati\, OH\, 45220
ATTACH;FMTTYPE=image/jpeg:https://immanuelpresby.org/wp-content/uploads/2019/11/46104985_1712164315555200_3081857262168309760_o.jpg
END:VEVENT
BEGIN:VEVENT
DTSTART;TZID=America/New_York:20210925T140000
DTEND;TZID=America/New_York:20210925T160000
DTSTAMP:20260420T014807
CREATED:20210923T205303Z
LAST-MODIFIED:20210923T205346Z
UID:10000419-1632578400-1632585600@immanuelpresby.org
SUMMARY:Celebration of Life for Liz Ragouzis
DESCRIPTION:Service at 2:00 pm with a reception to follow.
URL:https://immanuelpresby.org/event/celebration-of-life-for-liz-ragouzis/
LOCATION:Immanuel Presbyterian\, 3445 Clifton Avenue\, Cincinnati\, OH\, 45220
ATTACH;FMTTYPE=image/jpeg:https://immanuelpresby.org/wp-content/uploads/2019/12/60688734_1976082872496675_7705365766488457216_o.jpg
END:VEVENT
BEGIN:VEVENT
DTSTART;TZID=America/New_York:20210919T103000
DTEND;TZID=America/New_York:20210919T113000
DTSTAMP:20260420T014807
CREATED:20210816T194022Z
LAST-MODIFIED:20210816T194022Z
UID:10000415-1632047400-1632051000@immanuelpresby.org
SUMMARY:Worship
DESCRIPTION:
URL:https://immanuelpresby.org/event/worship-3/2021-09-19/
LOCATION:Immanuel Presbyterian\, 3445 Clifton Avenue\, Cincinnati\, OH\, 45220
ATTACH;FMTTYPE=image/jpeg:https://immanuelpresby.org/wp-content/uploads/2019/11/46104985_1712164315555200_3081857262168309760_o.jpg
END:VEVENT
BEGIN:VEVENT
DTSTART;TZID=America/New_York:20210912T103000
DTEND;TZID=America/New_York:20210912T113000
DTSTAMP:20260420T014807
CREATED:20210816T194022Z
LAST-MODIFIED:20210816T194022Z
UID:10000414-1631442600-1631446200@immanuelpresby.org
SUMMARY:Worship
DESCRIPTION:
URL:https://immanuelpresby.org/event/worship-3/2021-09-12/
LOCATION:Immanuel Presbyterian\, 3445 Clifton Avenue\, Cincinnati\, OH\, 45220
ATTACH;FMTTYPE=image/jpeg:https://immanuelpresby.org/wp-content/uploads/2019/11/46104985_1712164315555200_3081857262168309760_o.jpg
END:VEVENT
BEGIN:VEVENT
DTSTART;TZID=America/New_York:20210829T103000
DTEND;TZID=America/New_York:20210829T113000
DTSTAMP:20260420T014807
CREATED:20210816T193318Z
LAST-MODIFIED:20210816T193520Z
UID:10000418-1630233000-1630236600@immanuelpresby.org
SUMMARY:Worship
DESCRIPTION:
URL:https://immanuelpresby.org/event/worship-2/2021-08-29/
LOCATION:Immanuel Presbyterian\, 3445 Clifton Avenue\, Cincinnati\, OH\, 45220
ATTACH;FMTTYPE=image/jpeg:https://immanuelpresby.org/wp-content/uploads/2019/11/46104985_1712164315555200_3081857262168309760_o.jpg
END:VEVENT
BEGIN:VEVENT
DTSTART;TZID=America/New_York:20210822T103000
DTEND;TZID=America/New_York:20210822T113000
DTSTAMP:20260420T014807
CREATED:20210816T193318Z
LAST-MODIFIED:20210816T193520Z
UID:10000417-1629628200-1629631800@immanuelpresby.org
SUMMARY:Worship
DESCRIPTION:
URL:https://immanuelpresby.org/event/worship-2/2021-08-22/
LOCATION:Immanuel Presbyterian\, 3445 Clifton Avenue\, Cincinnati\, OH\, 45220
ATTACH;FMTTYPE=image/jpeg:https://immanuelpresby.org/wp-content/uploads/2019/11/46104985_1712164315555200_3081857262168309760_o.jpg
END:VEVENT
BEGIN:VEVENT
DTSTART;TZID=America/New_York:20200715T130000
DTEND;TZID=America/New_York:20200715T140000
DTSTAMP:20260420T014807
CREATED:20200309T180957Z
LAST-MODIFIED:20200309T180957Z
UID:10000413-1594818000-1594821600@immanuelpresby.org
SUMMARY:Weekly Online Bible Study
DESCRIPTION:We are currently meeting online and by conference call for the Weekly Bible Study.  Use “Contact Us” to find out how to join.
URL:https://immanuelpresby.org/event/noon-bible-study/2020-07-15/
LOCATION:OH
END:VEVENT
BEGIN:VEVENT
DTSTART;TZID=America/New_York:20200708T130000
DTEND;TZID=America/New_York:20200708T140000
DTSTAMP:20260420T014807
CREATED:20200309T180957Z
LAST-MODIFIED:20200309T180957Z
UID:10000412-1594213200-1594216800@immanuelpresby.org
SUMMARY:Weekly Online Bible Study
DESCRIPTION:We are currently meeting online and by conference call for the Weekly Bible Study.  Use “Contact Us” to find out how to join.
URL:https://immanuelpresby.org/event/noon-bible-study/2020-07-08/
LOCATION:OH
END:VEVENT
BEGIN:VEVENT
DTSTART;TZID=America/New_York:20200701T130000
DTEND;TZID=America/New_York:20200701T140000
DTSTAMP:20260420T014807
CREATED:20200309T180957Z
LAST-MODIFIED:20200309T180957Z
UID:10000411-1593608400-1593612000@immanuelpresby.org
SUMMARY:Weekly Online Bible Study
DESCRIPTION:We are currently meeting online and by conference call for the Weekly Bible Study.  Use “Contact Us” to find out how to join.
URL:https://immanuelpresby.org/event/noon-bible-study/2020-07-01/
LOCATION:OH
END:VEVENT
BEGIN:VEVENT
DTSTART;TZID=America/New_York:20200624T130000
DTEND;TZID=America/New_York:20200624T140000
DTSTAMP:20260420T014807
CREATED:20200309T180957Z
LAST-MODIFIED:20200309T180957Z
UID:10000410-1593003600-1593007200@immanuelpresby.org
SUMMARY:Weekly Online Bible Study
DESCRIPTION:We are currently meeting online and by conference call for the Weekly Bible Study.  Use “Contact Us” to find out how to join.
URL:https://immanuelpresby.org/event/noon-bible-study/2020-06-24/
LOCATION:OH
END:VEVENT
BEGIN:VEVENT
DTSTART;TZID=America/New_York:20200617T130000
DTEND;TZID=America/New_York:20200617T140000
DTSTAMP:20260420T014807
CREATED:20200309T180957Z
LAST-MODIFIED:20200309T180957Z
UID:10000409-1592398800-1592402400@immanuelpresby.org
SUMMARY:Weekly Online Bible Study
DESCRIPTION:We are currently meeting online and by conference call for the Weekly Bible Study.  Use “Contact Us” to find out how to join.
URL:https://immanuelpresby.org/event/noon-bible-study/2020-06-17/
LOCATION:OH
END:VEVENT
BEGIN:VEVENT
DTSTART;TZID=America/New_York:20200610T130000
DTEND;TZID=America/New_York:20200610T140000
DTSTAMP:20260420T014807
CREATED:20200309T180957Z
LAST-MODIFIED:20200309T180957Z
UID:10000408-1591794000-1591797600@immanuelpresby.org
SUMMARY:Weekly Online Bible Study
DESCRIPTION:We are currently meeting online and by conference call for the Weekly Bible Study.  Use “Contact Us” to find out how to join.
URL:https://immanuelpresby.org/event/noon-bible-study/2020-06-10/
LOCATION:OH
END:VEVENT
BEGIN:VEVENT
DTSTART;TZID=America/New_York:20200603T130000
DTEND;TZID=America/New_York:20200603T140000
DTSTAMP:20260420T014807
CREATED:20200309T180957Z
LAST-MODIFIED:20200309T180957Z
UID:10000407-1591189200-1591192800@immanuelpresby.org
SUMMARY:Weekly Online Bible Study
DESCRIPTION:We are currently meeting online and by conference call for the Weekly Bible Study.  Use “Contact Us” to find out how to join.
URL:https://immanuelpresby.org/event/noon-bible-study/2020-06-03/
LOCATION:OH
END:VEVENT
BEGIN:VEVENT
DTSTART;TZID=America/New_York:20200527T130000
DTEND;TZID=America/New_York:20200527T140000
DTSTAMP:20260420T014807
CREATED:20200309T180957Z
LAST-MODIFIED:20200309T180957Z
UID:10000406-1590584400-1590588000@immanuelpresby.org
SUMMARY:Weekly Online Bible Study
DESCRIPTION:We are currently meeting online and by conference call for the Weekly Bible Study.  Use “Contact Us” to find out how to join.
URL:https://immanuelpresby.org/event/noon-bible-study/2020-05-27/
LOCATION:OH
END:VEVENT
BEGIN:VEVENT
DTSTART;TZID=America/New_York:20200520T130000
DTEND;TZID=America/New_York:20200520T140000
DTSTAMP:20260420T014807
CREATED:20200309T180957Z
LAST-MODIFIED:20200309T180957Z
UID:10000405-1589979600-1589983200@immanuelpresby.org
SUMMARY:Weekly Online Bible Study
DESCRIPTION:We are currently meeting online and by conference call for the Weekly Bible Study.  Use “Contact Us” to find out how to join.
URL:https://immanuelpresby.org/event/noon-bible-study/2020-05-20/
LOCATION:OH
END:VEVENT
BEGIN:VEVENT
DTSTART;TZID=America/New_York:20200513T130000
DTEND;TZID=America/New_York:20200513T140000
DTSTAMP:20260420T014807
CREATED:20200309T180957Z
LAST-MODIFIED:20200309T180957Z
UID:10000404-1589374800-1589378400@immanuelpresby.org
SUMMARY:Weekly Online Bible Study
DESCRIPTION:We are currently meeting online and by conference call for the Weekly Bible Study.  Use “Contact Us” to find out how to join.
URL:https://immanuelpresby.org/event/noon-bible-study/2020-05-13/
LOCATION:OH
END:VEVENT
BEGIN:VEVENT
DTSTART;TZID=America/New_York:20200506T130000
DTEND;TZID=America/New_York:20200506T140000
DTSTAMP:20260420T014807
CREATED:20200309T180957Z
LAST-MODIFIED:20200309T180957Z
UID:10000403-1588770000-1588773600@immanuelpresby.org
SUMMARY:Weekly Online Bible Study
DESCRIPTION:We are currently meeting online and by conference call for the Weekly Bible Study.  Use “Contact Us” to find out how to join.
URL:https://immanuelpresby.org/event/noon-bible-study/2020-05-06/
LOCATION:OH
END:VEVENT
BEGIN:VEVENT
DTSTART;TZID=America/New_York:20200429T130000
DTEND;TZID=America/New_York:20200429T140000
DTSTAMP:20260420T014807
CREATED:20200309T180957Z
LAST-MODIFIED:20200309T180957Z
UID:10000402-1588165200-1588168800@immanuelpresby.org
SUMMARY:Weekly Online Bible Study
DESCRIPTION:We are currently meeting online and by conference call for the Weekly Bible Study.  Use “Contact Us” to find out how to join.
URL:https://immanuelpresby.org/event/noon-bible-study/2020-04-29/
LOCATION:OH
END:VEVENT
END:VCALENDAR