BEGIN:VCALENDAR
VERSION:2.0
PRODID:-//Immanuel Presbyterian Church - ECPv6.15.20//NONSGML v1.0//EN
CALSCALE:GREGORIAN
METHOD:PUBLISH
X-WR-CALNAME:Immanuel Presbyterian Church
X-ORIGINAL-URL:https://immanuelpresby.org
X-WR-CALDESC:Events for Immanuel Presbyterian Church
REFRESH-INTERVAL;VALUE=DURATION:PT1H
X-Robots-Tag:noindex
X-PUBLISHED-TTL:PT1H
BEGIN:VTIMEZONE
TZID:America/New_York
BEGIN:DAYLIGHT
TZOFFSETFROM:-0500
TZOFFSETTO:-0400
TZNAME:EDT
DTSTART:20200308T070000
END:DAYLIGHT
BEGIN:STANDARD
TZOFFSETFROM:-0400
TZOFFSETTO:-0500
TZNAME:EST
DTSTART:20201101T060000
END:STANDARD
BEGIN:DAYLIGHT
TZOFFSETFROM:-0500
TZOFFSETTO:-0400
TZNAME:EDT
DTSTART:20210314T070000
END:DAYLIGHT
BEGIN:STANDARD
TZOFFSETFROM:-0400
TZOFFSETTO:-0500
TZNAME:EST
DTSTART:20211107T060000
END:STANDARD
BEGIN:DAYLIGHT
TZOFFSETFROM:-0500
TZOFFSETTO:-0400
TZNAME:EDT
DTSTART:20220313T070000
END:DAYLIGHT
BEGIN:STANDARD
TZOFFSETFROM:-0400
TZOFFSETTO:-0500
TZNAME:EST
DTSTART:20221106T060000
END:STANDARD
BEGIN:DAYLIGHT
TZOFFSETFROM:-0500
TZOFFSETTO:-0400
TZNAME:EDT
DTSTART:20230312T070000
END:DAYLIGHT
BEGIN:STANDARD
TZOFFSETFROM:-0400
TZOFFSETTO:-0500
TZNAME:EST
DTSTART:20231105T060000
END:STANDARD
END:VTIMEZONE
BEGIN:VEVENT
DTSTART;TZID=America/New_York:20220706T130000
DTEND;TZID=America/New_York:20220706T140000
DTSTAMP:20260419T181954
CREATED:20220428T003219Z
LAST-MODIFIED:20220428T003219Z
UID:10000480-1657112400-1657116000@immanuelpresby.org
SUMMARY:Bible Study
DESCRIPTION:May 4 – Prayer as Petition\nMay 11 – The Psalms for Today\, Chapter 1\nMay 18 – Chapter 2\nMay 25 – No Meeting\nJune 1 – Chapter 3\nJune 8 – Chapter 4\nJune 15 – No Meeting\nJune 22 – No Meeting\nJune 29 – Chapter 5\nJuly 6 – Chapter 6\nJuly 13 – Chapter 7\nJuly 20 – Chapter 8\nJuly 27 – Chapter 9
URL:https://immanuelpresby.org/event/bible-study/2022-07-06/
LOCATION:Immanuel Presbyterian\, 3445 Clifton Avenue\, Cincinnati\, OH\, 45220
ATTACH;FMTTYPE=image/jpeg:https://immanuelpresby.org/wp-content/uploads/2022/04/psalms-for-today.jpg
END:VEVENT
BEGIN:VEVENT
DTSTART;TZID=America/New_York:20220703T103000
DTEND;TZID=America/New_York:20220703T123000
DTSTAMP:20260419T181954
CREATED:20220428T000812Z
LAST-MODIFIED:20220428T001140Z
UID:10000468-1656844200-1656851400@immanuelpresby.org
SUMMARY:Fill the Cart for St. George!
DESCRIPTION:Items Needed for St. George Interfaith Food Pantry \n\nCleaning Supplies\nPaper Towels\nTissues\nQuart Size Ziplock Bags\nEasy Open Quick Snacks for Kids\nPowdered Laundry Detergent\nSmall Dish Detergent\nPersonal Items\n\nUnscented Body Wash\nUnscented Shampoo & Conditione\nToothpaste
URL:https://immanuelpresby.org/event/fill-the-cart-for-st-george/2022-07-03/
LOCATION:OH
ATTACH;FMTTYPE=image/png:https://immanuelpresby.org/wp-content/uploads/2022/04/fill-the-cart-1.png
END:VEVENT
BEGIN:VEVENT
DTSTART;TZID=America/New_York:20220703T103000
DTEND;TZID=America/New_York:20220703T113000
DTSTAMP:20260419T181954
CREATED:20220427T230623Z
LAST-MODIFIED:20220427T230623Z
UID:10000439-1656844200-1656847800@immanuelpresby.org
SUMMARY:Worship
DESCRIPTION:Communion Sunday
URL:https://immanuelpresby.org/event/worship-8/2022-07-03/
LOCATION:Immanuel Presbyterian\, 3445 Clifton Avenue\, Cincinnati\, OH\, 45220
ATTACH;FMTTYPE=image/jpeg:https://immanuelpresby.org/wp-content/uploads/2019/11/10368935_704459992992309_6569513670073365962_o.jpg
END:VEVENT
BEGIN:VEVENT
DTSTART;TZID=America/New_York:20220630T193000
DTEND;TZID=America/New_York:20220630T210000
DTSTAMP:20260419T181954
CREATED:20220427T234444Z
LAST-MODIFIED:20220427T234539Z
UID:10000456-1656617400-1656622800@immanuelpresby.org
SUMMARY:Pub Theology
DESCRIPTION:Bring your questions\, your curiosity\, and pull up a chair. Be ready to engage with people of varying religious traditions\, philosophical perspectives and life experiences. You’ll be able to share your own wrestlings and thoughts while learning something new along the way. . .
URL:https://immanuelpresby.org/event/pub-theology/2022-06-30/
LOCATION:Upside Brew\, 329 Ludlow Ave\, Clifton\, United States
ATTACH;FMTTYPE=image/jpeg:https://immanuelpresby.org/wp-content/uploads/2022/04/pub-theology.jpg
ORGANIZER;CN="Immanuel Presbyterian Church - Rev. Brad Sheppard":MAILTO:secretary@immanuelpresby.org
END:VEVENT
BEGIN:VEVENT
DTSTART;TZID=America/New_York:20220629T130000
DTEND;TZID=America/New_York:20220629T140000
DTSTAMP:20260419T181954
CREATED:20220428T003219Z
LAST-MODIFIED:20220428T003219Z
UID:10000479-1656507600-1656511200@immanuelpresby.org
SUMMARY:Bible Study
DESCRIPTION:May 4 – Prayer as Petition\nMay 11 – The Psalms for Today\, Chapter 1\nMay 18 – Chapter 2\nMay 25 – No Meeting\nJune 1 – Chapter 3\nJune 8 – Chapter 4\nJune 15 – No Meeting\nJune 22 – No Meeting\nJune 29 – Chapter 5\nJuly 6 – Chapter 6\nJuly 13 – Chapter 7\nJuly 20 – Chapter 8\nJuly 27 – Chapter 9
URL:https://immanuelpresby.org/event/bible-study/2022-06-29/
LOCATION:Immanuel Presbyterian\, 3445 Clifton Avenue\, Cincinnati\, OH\, 45220
ATTACH;FMTTYPE=image/jpeg:https://immanuelpresby.org/wp-content/uploads/2022/04/psalms-for-today.jpg
END:VEVENT
BEGIN:VEVENT
DTSTART;TZID=America/New_York:20220618T100000
DTEND;TZID=America/New_York:20220618T130000
DTSTAMP:20260419T181954
CREATED:20220524T220357Z
LAST-MODIFIED:20220526T172610Z
UID:10000487-1655546400-1655557200@immanuelpresby.org
SUMMARY:Community Collection Day!
DESCRIPTION:Benefitting our neighbors by collecting donations of non-food items\, school supplies and items for Christmas Shoeboxes.
URL:https://immanuelpresby.org/event/community-collection-day/2022-06-18/
LOCATION:OH
ATTACH;FMTTYPE=image/jpeg:https://immanuelpresby.org/wp-content/uploads/2022/03/IMG_6093-scaled.jpg
ORGANIZER;CN="Immanuel Presbyterian Church - Rev. Brad Sheppard":MAILTO:secretary@immanuelpresby.org
END:VEVENT
BEGIN:VEVENT
DTSTART;TZID=America/New_York:20220609T180000
DTEND;TZID=America/New_York:20220609T203000
DTSTAMP:20260419T181954
CREATED:20220427T224731Z
LAST-MODIFIED:20220427T224731Z
UID:10000431-1654797600-1654806600@immanuelpresby.org
SUMMARY:Community BBQs
DESCRIPTION:Join us for music\, conversation and food. Invite family and friends.  Community Event.
URL:https://immanuelpresby.org/event/community-bbqs/2022-06-09/
LOCATION:Immanuel Presbyterian\, 3445 Clifton Avenue\, Cincinnati\, OH\, 45220
ATTACH;FMTTYPE=image/png:https://immanuelpresby.org/wp-content/uploads/2022/04/General-event-community-BBQ-1.png
END:VEVENT
BEGIN:VEVENT
DTSTART;TZID=America/New_York:20220608T130000
DTEND;TZID=America/New_York:20220608T140000
DTSTAMP:20260419T181954
CREATED:20220428T003219Z
LAST-MODIFIED:20220428T003219Z
UID:10000478-1654693200-1654696800@immanuelpresby.org
SUMMARY:Bible Study
DESCRIPTION:May 4 – Prayer as Petition\nMay 11 – The Psalms for Today\, Chapter 1\nMay 18 – Chapter 2\nMay 25 – No Meeting\nJune 1 – Chapter 3\nJune 8 – Chapter 4\nJune 15 – No Meeting\nJune 22 – No Meeting\nJune 29 – Chapter 5\nJuly 6 – Chapter 6\nJuly 13 – Chapter 7\nJuly 20 – Chapter 8\nJuly 27 – Chapter 9
URL:https://immanuelpresby.org/event/bible-study/2022-06-08/
LOCATION:Immanuel Presbyterian\, 3445 Clifton Avenue\, Cincinnati\, OH\, 45220
ATTACH;FMTTYPE=image/jpeg:https://immanuelpresby.org/wp-content/uploads/2022/04/psalms-for-today.jpg
END:VEVENT
BEGIN:VEVENT
DTSTART;TZID=America/New_York:20220605T103000
DTEND;TZID=America/New_York:20220605T123000
DTSTAMP:20260419T181954
CREATED:20220428T000812Z
LAST-MODIFIED:20220428T001140Z
UID:10000467-1654425000-1654432200@immanuelpresby.org
SUMMARY:Fill the Cart for St. George!
DESCRIPTION:Items Needed for St. George Interfaith Food Pantry \n\nCleaning Supplies\nPaper Towels\nTissues\nQuart Size Ziplock Bags\nEasy Open Quick Snacks for Kids\nPowdered Laundry Detergent\nSmall Dish Detergent\nPersonal Items\n\nUnscented Body Wash\nUnscented Shampoo & Conditione\nToothpaste
URL:https://immanuelpresby.org/event/fill-the-cart-for-st-george/2022-06-05/
LOCATION:OH
ATTACH;FMTTYPE=image/png:https://immanuelpresby.org/wp-content/uploads/2022/04/fill-the-cart-1.png
END:VEVENT
BEGIN:VEVENT
DTSTART;TZID=America/New_York:20220605T103000
DTEND;TZID=America/New_York:20220605T113000
DTSTAMP:20260419T181954
CREATED:20220427T230623Z
LAST-MODIFIED:20220427T230623Z
UID:10000438-1654425000-1654428600@immanuelpresby.org
SUMMARY:Worship
DESCRIPTION:Communion Sunday
URL:https://immanuelpresby.org/event/worship-8/2022-06-05/
LOCATION:Immanuel Presbyterian\, 3445 Clifton Avenue\, Cincinnati\, OH\, 45220
ATTACH;FMTTYPE=image/jpeg:https://immanuelpresby.org/wp-content/uploads/2019/11/10368935_704459992992309_6569513670073365962_o.jpg
END:VEVENT
BEGIN:VEVENT
DTSTART;TZID=America/New_York:20220602T193000
DTEND;TZID=America/New_York:20220602T210000
DTSTAMP:20260419T181954
CREATED:20220427T234444Z
LAST-MODIFIED:20220427T234539Z
UID:10000455-1654198200-1654203600@immanuelpresby.org
SUMMARY:Pub Theology
DESCRIPTION:Bring your questions\, your curiosity\, and pull up a chair. Be ready to engage with people of varying religious traditions\, philosophical perspectives and life experiences. You’ll be able to share your own wrestlings and thoughts while learning something new along the way. . .
URL:https://immanuelpresby.org/event/pub-theology/2022-06-02/
LOCATION:Upside Brew\, 329 Ludlow Ave\, Clifton\, United States
ATTACH;FMTTYPE=image/jpeg:https://immanuelpresby.org/wp-content/uploads/2022/04/pub-theology.jpg
ORGANIZER;CN="Immanuel Presbyterian Church - Rev. Brad Sheppard":MAILTO:secretary@immanuelpresby.org
END:VEVENT
BEGIN:VEVENT
DTSTART;TZID=America/New_York:20220601T130000
DTEND;TZID=America/New_York:20220601T140000
DTSTAMP:20260419T181954
CREATED:20220428T003219Z
LAST-MODIFIED:20220428T003219Z
UID:10000477-1654088400-1654092000@immanuelpresby.org
SUMMARY:Bible Study
DESCRIPTION:May 4 – Prayer as Petition\nMay 11 – The Psalms for Today\, Chapter 1\nMay 18 – Chapter 2\nMay 25 – No Meeting\nJune 1 – Chapter 3\nJune 8 – Chapter 4\nJune 15 – No Meeting\nJune 22 – No Meeting\nJune 29 – Chapter 5\nJuly 6 – Chapter 6\nJuly 13 – Chapter 7\nJuly 20 – Chapter 8\nJuly 27 – Chapter 9
URL:https://immanuelpresby.org/event/bible-study/2022-06-01/
LOCATION:Immanuel Presbyterian\, 3445 Clifton Avenue\, Cincinnati\, OH\, 45220
ATTACH;FMTTYPE=image/jpeg:https://immanuelpresby.org/wp-content/uploads/2022/04/psalms-for-today.jpg
END:VEVENT
BEGIN:VEVENT
DTSTART;TZID=America/New_York:20220529T103000
DTEND;TZID=America/New_York:20220529T113000
DTSTAMP:20260419T181954
CREATED:20220427T225936Z
LAST-MODIFIED:20220427T232527Z
UID:10000437-1653820200-1653823800@immanuelpresby.org
SUMMARY:Worship
DESCRIPTION:
URL:https://immanuelpresby.org/event/worship-7/2022-05-29/
LOCATION:Immanuel Presbyterian\, 3445 Clifton Avenue\, Cincinnati\, OH\, 45220
ATTACH;FMTTYPE=image/jpeg:https://immanuelpresby.org/wp-content/uploads/2022/03/IMG_7364.jpg
END:VEVENT
BEGIN:VEVENT
DTSTART;TZID=America/New_York:20220526T193000
DTEND;TZID=America/New_York:20220526T210000
DTSTAMP:20260419T181954
CREATED:20220427T234444Z
LAST-MODIFIED:20220427T234539Z
UID:10000454-1653593400-1653598800@immanuelpresby.org
SUMMARY:Pub Theology
DESCRIPTION:Bring your questions\, your curiosity\, and pull up a chair. Be ready to engage with people of varying religious traditions\, philosophical perspectives and life experiences. You’ll be able to share your own wrestlings and thoughts while learning something new along the way. . .
URL:https://immanuelpresby.org/event/pub-theology/2022-05-26/
LOCATION:Upside Brew\, 329 Ludlow Ave\, Clifton\, United States
ATTACH;FMTTYPE=image/jpeg:https://immanuelpresby.org/wp-content/uploads/2022/04/pub-theology.jpg
ORGANIZER;CN="Immanuel Presbyterian Church - Rev. Brad Sheppard":MAILTO:secretary@immanuelpresby.org
END:VEVENT
BEGIN:VEVENT
DTSTART;TZID=America/New_York:20220522T103000
DTEND;TZID=America/New_York:20220522T123000
DTSTAMP:20260419T181954
CREATED:20220428T004019Z
LAST-MODIFIED:20220428T004019Z
UID:10000401-1653215400-1653222600@immanuelpresby.org
SUMMARY:Presbyterian Heritage Day
DESCRIPTION:The 35th Indiana Pipes and Drums perform during worship at 10:30am. \nWeather permitting – procession of flags from the Caledonian Society and the Pipes and Drums will continue playing on the patio \n(in front of the church) at 11:30 am\, with refreshments.
URL:https://immanuelpresby.org/event/presbyterian-heritage-day/
LOCATION:Immanuel Presbyterian\, 3445 Clifton Avenue\, Cincinnati\, OH\, 45220
ATTACH;FMTTYPE=image/png:https://immanuelpresby.org/wp-content/uploads/2022/04/Heritage-Day-1.png
END:VEVENT
BEGIN:VEVENT
DTSTART;TZID=America/New_York:20220522T103000
DTEND;TZID=America/New_York:20220522T113000
DTSTAMP:20260419T181954
CREATED:20220427T225936Z
LAST-MODIFIED:20220427T232527Z
UID:10000436-1653215400-1653219000@immanuelpresby.org
SUMMARY:Worship
DESCRIPTION:
URL:https://immanuelpresby.org/event/worship-7/2022-05-22/
LOCATION:Immanuel Presbyterian\, 3445 Clifton Avenue\, Cincinnati\, OH\, 45220
ATTACH;FMTTYPE=image/jpeg:https://immanuelpresby.org/wp-content/uploads/2022/03/IMG_7364.jpg
END:VEVENT
BEGIN:VEVENT
DTSTART;TZID=America/New_York:20220518T130000
DTEND;TZID=America/New_York:20220518T140000
DTSTAMP:20260419T181954
CREATED:20220428T003219Z
LAST-MODIFIED:20220428T003219Z
UID:10000476-1652878800-1652882400@immanuelpresby.org
SUMMARY:Bible Study
DESCRIPTION:May 4 – Prayer as Petition\nMay 11 – The Psalms for Today\, Chapter 1\nMay 18 – Chapter 2\nMay 25 – No Meeting\nJune 1 – Chapter 3\nJune 8 – Chapter 4\nJune 15 – No Meeting\nJune 22 – No Meeting\nJune 29 – Chapter 5\nJuly 6 – Chapter 6\nJuly 13 – Chapter 7\nJuly 20 – Chapter 8\nJuly 27 – Chapter 9
URL:https://immanuelpresby.org/event/bible-study/2022-05-18/
LOCATION:Immanuel Presbyterian\, 3445 Clifton Avenue\, Cincinnati\, OH\, 45220
ATTACH;FMTTYPE=image/jpeg:https://immanuelpresby.org/wp-content/uploads/2022/04/psalms-for-today.jpg
END:VEVENT
BEGIN:VEVENT
DTSTART;TZID=America/New_York:20220515T113000
DTEND;TZID=America/New_York:20220515T123000
DTSTAMP:20260419T181954
CREATED:20220427T235450Z
LAST-MODIFIED:20220427T235450Z
UID:10000463-1652614200-1652617800@immanuelpresby.org
SUMMARY:Packing Buddy Bags
DESCRIPTION:Join after worship to pack Buddy Bags benefitting the Fairview Clifton German Language School
URL:https://immanuelpresby.org/event/packing-buddy-bags/2022-05-15/
LOCATION:Immanuel Presbyterian\, 3445 Clifton Avenue\, Cincinnati\, OH\, 45220
END:VEVENT
BEGIN:VEVENT
DTSTART;TZID=America/New_York:20220515T103000
DTEND;TZID=America/New_York:20220515T113000
DTSTAMP:20260419T181954
CREATED:20220427T225936Z
LAST-MODIFIED:20220427T232527Z
UID:10000435-1652610600-1652614200@immanuelpresby.org
SUMMARY:Worship
DESCRIPTION:
URL:https://immanuelpresby.org/event/worship-7/2022-05-15/
LOCATION:Immanuel Presbyterian\, 3445 Clifton Avenue\, Cincinnati\, OH\, 45220
ATTACH;FMTTYPE=image/jpeg:https://immanuelpresby.org/wp-content/uploads/2022/03/IMG_7364.jpg
END:VEVENT
BEGIN:VEVENT
DTSTART;TZID=America/New_York:20220511T130000
DTEND;TZID=America/New_York:20220511T140000
DTSTAMP:20260419T181954
CREATED:20220428T003219Z
LAST-MODIFIED:20220428T003219Z
UID:10000475-1652274000-1652277600@immanuelpresby.org
SUMMARY:Bible Study
DESCRIPTION:May 4 – Prayer as Petition\nMay 11 – The Psalms for Today\, Chapter 1\nMay 18 – Chapter 2\nMay 25 – No Meeting\nJune 1 – Chapter 3\nJune 8 – Chapter 4\nJune 15 – No Meeting\nJune 22 – No Meeting\nJune 29 – Chapter 5\nJuly 6 – Chapter 6\nJuly 13 – Chapter 7\nJuly 20 – Chapter 8\nJuly 27 – Chapter 9
URL:https://immanuelpresby.org/event/bible-study/2022-05-11/
LOCATION:Immanuel Presbyterian\, 3445 Clifton Avenue\, Cincinnati\, OH\, 45220
ATTACH;FMTTYPE=image/jpeg:https://immanuelpresby.org/wp-content/uploads/2022/04/psalms-for-today.jpg
END:VEVENT
BEGIN:VEVENT
DTSTART;TZID=America/New_York:20220508T103000
DTEND;TZID=America/New_York:20220508T113000
DTSTAMP:20260419T181954
CREATED:20220427T225936Z
LAST-MODIFIED:20220427T232527Z
UID:10000434-1652005800-1652009400@immanuelpresby.org
SUMMARY:Worship
DESCRIPTION:
URL:https://immanuelpresby.org/event/worship-7/2022-05-08/
LOCATION:Immanuel Presbyterian\, 3445 Clifton Avenue\, Cincinnati\, OH\, 45220
ATTACH;FMTTYPE=image/jpeg:https://immanuelpresby.org/wp-content/uploads/2022/03/IMG_7364.jpg
END:VEVENT
BEGIN:VEVENT
DTSTART;TZID=America/New_York:20220505T193000
DTEND;TZID=America/New_York:20220505T210000
DTSTAMP:20260419T181954
CREATED:20220427T234444Z
LAST-MODIFIED:20220427T234539Z
UID:10000453-1651779000-1651784400@immanuelpresby.org
SUMMARY:Pub Theology
DESCRIPTION:Bring your questions\, your curiosity\, and pull up a chair. Be ready to engage with people of varying religious traditions\, philosophical perspectives and life experiences. You’ll be able to share your own wrestlings and thoughts while learning something new along the way. . .
URL:https://immanuelpresby.org/event/pub-theology/2022-05-05/
LOCATION:Upside Brew\, 329 Ludlow Ave\, Clifton\, United States
ATTACH;FMTTYPE=image/jpeg:https://immanuelpresby.org/wp-content/uploads/2022/04/pub-theology.jpg
ORGANIZER;CN="Immanuel Presbyterian Church - Rev. Brad Sheppard":MAILTO:secretary@immanuelpresby.org
END:VEVENT
BEGIN:VEVENT
DTSTART;TZID=America/New_York:20220504T130000
DTEND;TZID=America/New_York:20220504T140000
DTSTAMP:20260419T181954
CREATED:20220428T003219Z
LAST-MODIFIED:20220428T003219Z
UID:10000474-1651669200-1651672800@immanuelpresby.org
SUMMARY:Bible Study
DESCRIPTION:May 4 – Prayer as Petition\nMay 11 – The Psalms for Today\, Chapter 1\nMay 18 – Chapter 2\nMay 25 – No Meeting\nJune 1 – Chapter 3\nJune 8 – Chapter 4\nJune 15 – No Meeting\nJune 22 – No Meeting\nJune 29 – Chapter 5\nJuly 6 – Chapter 6\nJuly 13 – Chapter 7\nJuly 20 – Chapter 8\nJuly 27 – Chapter 9
URL:https://immanuelpresby.org/event/bible-study/2022-05-04/
LOCATION:Immanuel Presbyterian\, 3445 Clifton Avenue\, Cincinnati\, OH\, 45220
ATTACH;FMTTYPE=image/jpeg:https://immanuelpresby.org/wp-content/uploads/2022/04/psalms-for-today.jpg
END:VEVENT
BEGIN:VEVENT
DTSTART;TZID=America/New_York:20220501T113000
DTEND;TZID=America/New_York:20220501T123000
DTSTAMP:20260419T181954
CREATED:20220427T235450Z
LAST-MODIFIED:20220427T235450Z
UID:10000462-1651404600-1651408200@immanuelpresby.org
SUMMARY:Packing Buddy Bags
DESCRIPTION:Join after worship to pack Buddy Bags benefitting the Fairview Clifton German Language School
URL:https://immanuelpresby.org/event/packing-buddy-bags/2022-05-01/
LOCATION:Immanuel Presbyterian\, 3445 Clifton Avenue\, Cincinnati\, OH\, 45220
END:VEVENT
BEGIN:VEVENT
DTSTART;TZID=America/New_York:20220501T103000
DTEND;TZID=America/New_York:20220501T123000
DTSTAMP:20260419T181954
CREATED:20220428T000812Z
LAST-MODIFIED:20220428T001140Z
UID:10000466-1651401000-1651408200@immanuelpresby.org
SUMMARY:Fill the Cart for St. George!
DESCRIPTION:Items Needed for St. George Interfaith Food Pantry \n\nCleaning Supplies\nPaper Towels\nTissues\nQuart Size Ziplock Bags\nEasy Open Quick Snacks for Kids\nPowdered Laundry Detergent\nSmall Dish Detergent\nPersonal Items\n\nUnscented Body Wash\nUnscented Shampoo & Conditione\nToothpaste
URL:https://immanuelpresby.org/event/fill-the-cart-for-st-george/2022-05-01/
LOCATION:OH
ATTACH;FMTTYPE=image/png:https://immanuelpresby.org/wp-content/uploads/2022/04/fill-the-cart-1.png
END:VEVENT
BEGIN:VEVENT
DTSTART;TZID=America/New_York:20211226T103000
DTEND;TZID=America/New_York:20211226T113000
DTSTAMP:20260419T181954
CREATED:20211019T203521Z
LAST-MODIFIED:20211019T203746Z
UID:10000430-1640514600-1640518200@immanuelpresby.org
SUMMARY:Worship
DESCRIPTION:
URL:https://immanuelpresby.org/event/worship-6/2021-12-26/
LOCATION:Immanuel Presbyterian\, 3445 Clifton Avenue\, Cincinnati\, OH\, 45220
ATTACH;FMTTYPE=image/jpeg:https://immanuelpresby.org/wp-content/uploads/2020/01/Immanuel-6.jpg
END:VEVENT
BEGIN:VEVENT
DTSTART;TZID=America/New_York:20211219T103000
DTEND;TZID=America/New_York:20211219T113000
DTSTAMP:20260419T181954
CREATED:20211019T203521Z
LAST-MODIFIED:20211019T203746Z
UID:10000429-1639909800-1639913400@immanuelpresby.org
SUMMARY:Worship
DESCRIPTION:
URL:https://immanuelpresby.org/event/worship-6/2021-12-19/
LOCATION:Immanuel Presbyterian\, 3445 Clifton Avenue\, Cincinnati\, OH\, 45220
ATTACH;FMTTYPE=image/jpeg:https://immanuelpresby.org/wp-content/uploads/2020/01/Immanuel-6.jpg
END:VEVENT
BEGIN:VEVENT
DTSTART;TZID=America/New_York:20211212T103000
DTEND;TZID=America/New_York:20211212T113000
DTSTAMP:20260419T181954
CREATED:20211019T203521Z
LAST-MODIFIED:20211019T203746Z
UID:10000428-1639305000-1639308600@immanuelpresby.org
SUMMARY:Worship
DESCRIPTION:
URL:https://immanuelpresby.org/event/worship-6/2021-12-12/
LOCATION:Immanuel Presbyterian\, 3445 Clifton Avenue\, Cincinnati\, OH\, 45220
ATTACH;FMTTYPE=image/jpeg:https://immanuelpresby.org/wp-content/uploads/2020/01/Immanuel-6.jpg
END:VEVENT
BEGIN:VEVENT
DTSTART;TZID=America/New_York:20211128T103000
DTEND;TZID=America/New_York:20211128T113000
DTSTAMP:20260419T181954
CREATED:20210922T222948Z
LAST-MODIFIED:20210922T223120Z
UID:10000427-1638095400-1638099000@immanuelpresby.org
SUMMARY:Worship
DESCRIPTION:
URL:https://immanuelpresby.org/event/worship-5/2021-11-28/
LOCATION:Immanuel Presbyterian\, 3445 Clifton Avenue\, Cincinnati\, OH\, 45220
ATTACH;FMTTYPE=image/jpeg:https://immanuelpresby.org/wp-content/uploads/2020/01/Immanuel-6.jpg
END:VEVENT
BEGIN:VEVENT
DTSTART;TZID=America/New_York:20211121T103000
DTEND;TZID=America/New_York:20211121T113000
DTSTAMP:20260419T181954
CREATED:20210922T222948Z
LAST-MODIFIED:20210922T223120Z
UID:10000426-1637490600-1637494200@immanuelpresby.org
SUMMARY:Worship
DESCRIPTION:
URL:https://immanuelpresby.org/event/worship-5/2021-11-21/
LOCATION:Immanuel Presbyterian\, 3445 Clifton Avenue\, Cincinnati\, OH\, 45220
ATTACH;FMTTYPE=image/jpeg:https://immanuelpresby.org/wp-content/uploads/2020/01/Immanuel-6.jpg
END:VEVENT
END:VCALENDAR