BEGIN:VCALENDAR
VERSION:2.0
PRODID:-//Immanuel Presbyterian Church - ECPv6.15.20//NONSGML v1.0//EN
CALSCALE:GREGORIAN
METHOD:PUBLISH
X-WR-CALNAME:Immanuel Presbyterian Church
X-ORIGINAL-URL:https://immanuelpresby.org
X-WR-CALDESC:Events for Immanuel Presbyterian Church
REFRESH-INTERVAL;VALUE=DURATION:PT1H
X-Robots-Tag:noindex
X-PUBLISHED-TTL:PT1H
BEGIN:VTIMEZONE
TZID:America/New_York
BEGIN:DAYLIGHT
TZOFFSETFROM:-0500
TZOFFSETTO:-0400
TZNAME:EDT
DTSTART:20260308T070000
END:DAYLIGHT
BEGIN:STANDARD
TZOFFSETFROM:-0400
TZOFFSETTO:-0500
TZNAME:EST
DTSTART:20261101T060000
END:STANDARD
BEGIN:DAYLIGHT
TZOFFSETFROM:-0500
TZOFFSETTO:-0400
TZNAME:EDT
DTSTART:20270314T070000
END:DAYLIGHT
BEGIN:STANDARD
TZOFFSETFROM:-0400
TZOFFSETTO:-0500
TZNAME:EST
DTSTART:20271107T060000
END:STANDARD
BEGIN:DAYLIGHT
TZOFFSETFROM:-0500
TZOFFSETTO:-0400
TZNAME:EDT
DTSTART:20280312T070000
END:DAYLIGHT
BEGIN:STANDARD
TZOFFSETFROM:-0400
TZOFFSETTO:-0500
TZNAME:EST
DTSTART:20281105T060000
END:STANDARD
END:VTIMEZONE
BEGIN:VEVENT
DTSTART;TZID=America/New_York:20270117T103000
DTEND;TZID=America/New_York:20270117T113000
DTSTAMP:20260419T223614
CREATED:20260209T175533Z
LAST-MODIFIED:20260209T175556Z
UID:10000713-1800181800-1800185400@immanuelpresby.org
SUMMARY:Worship
DESCRIPTION:We welcome you to our weekly Sunday morning worship service in our sanctuary or online.
URL:https://immanuelpresby.org/event/worship-19-2-2/2027-01-17/
LOCATION:Immanuel Presbyterian\, 3445 Clifton Avenue\, Cincinnati\, OH\, 45220
END:VEVENT
BEGIN:VEVENT
DTSTART;TZID=America/New_York:20270117T113000
DTEND;TZID=America/New_York:20270117T120000
DTSTAMP:20260419T223614
CREATED:20260121T210536Z
LAST-MODIFIED:20260121T210536Z
UID:10001337-1800185400-1800187200@immanuelpresby.org
SUMMARY:Coffee & Conversation
DESCRIPTION:Following worship on Sunday morning we gather for coffee\, snacks and conversation.
URL:https://immanuelpresby.org/event/coffee-conversation-2/2027-01-17/
LOCATION:Immanuel Presbyterian\, 3445 Clifton Avenue\, Cincinnati\, OH\, 45220
END:VEVENT
BEGIN:VEVENT
DTSTART;TZID=America/New_York:20270120T130000
DTEND;TZID=America/New_York:20270120T140000
DTSTAMP:20260419T223614
CREATED:20260209T175219Z
LAST-MODIFIED:20260209T175219Z
UID:10000850-1800450000-1800453600@immanuelpresby.org
SUMMARY:Bible Study
DESCRIPTION:Our virtual Bible study brings folks together each Wednesday for conversation\, study and reflection. Contact the office to learn more and to request the Zoom meeting information.
URL:https://immanuelpresby.org/event/bible-study-3-2-2/2027-01-20/
LOCATION:
END:VEVENT
BEGIN:VEVENT
DTSTART;TZID=America/New_York:20270124T103000
DTEND;TZID=America/New_York:20270124T113000
DTSTAMP:20260419T223614
CREATED:20260209T175533Z
LAST-MODIFIED:20260209T175556Z
UID:10000714-1800786600-1800790200@immanuelpresby.org
SUMMARY:Worship
DESCRIPTION:We welcome you to our weekly Sunday morning worship service in our sanctuary or online.
URL:https://immanuelpresby.org/event/worship-19-2-2/2027-01-24/
LOCATION:Immanuel Presbyterian\, 3445 Clifton Avenue\, Cincinnati\, OH\, 45220
END:VEVENT
BEGIN:VEVENT
DTSTART;TZID=America/New_York:20270124T113000
DTEND;TZID=America/New_York:20270124T120000
DTSTAMP:20260419T223615
CREATED:20260121T210536Z
LAST-MODIFIED:20260121T210536Z
UID:10001338-1800790200-1800792000@immanuelpresby.org
SUMMARY:Coffee & Conversation
DESCRIPTION:Following worship on Sunday morning we gather for coffee\, snacks and conversation.
URL:https://immanuelpresby.org/event/coffee-conversation-2/2027-01-24/
LOCATION:Immanuel Presbyterian\, 3445 Clifton Avenue\, Cincinnati\, OH\, 45220
END:VEVENT
BEGIN:VEVENT
DTSTART;TZID=America/New_York:20270127T130000
DTEND;TZID=America/New_York:20270127T140000
DTSTAMP:20260419T223615
CREATED:20260209T175219Z
LAST-MODIFIED:20260209T175219Z
UID:10000851-1801054800-1801058400@immanuelpresby.org
SUMMARY:Bible Study
DESCRIPTION:Our virtual Bible study brings folks together each Wednesday for conversation\, study and reflection. Contact the office to learn more and to request the Zoom meeting information.
URL:https://immanuelpresby.org/event/bible-study-3-2-2/2027-01-27/
LOCATION:
END:VEVENT
BEGIN:VEVENT
DTSTART;TZID=America/New_York:20270131T103000
DTEND;TZID=America/New_York:20270131T113000
DTSTAMP:20260419T223615
CREATED:20260209T175533Z
LAST-MODIFIED:20260209T175556Z
UID:10000715-1801391400-1801395000@immanuelpresby.org
SUMMARY:Worship
DESCRIPTION:We welcome you to our weekly Sunday morning worship service in our sanctuary or online.
URL:https://immanuelpresby.org/event/worship-19-2-2/2027-01-31/
LOCATION:Immanuel Presbyterian\, 3445 Clifton Avenue\, Cincinnati\, OH\, 45220
END:VEVENT
BEGIN:VEVENT
DTSTART;TZID=America/New_York:20270131T113000
DTEND;TZID=America/New_York:20270131T120000
DTSTAMP:20260419T223615
CREATED:20260121T210536Z
LAST-MODIFIED:20260121T210536Z
UID:10001339-1801395000-1801396800@immanuelpresby.org
SUMMARY:Coffee & Conversation
DESCRIPTION:Following worship on Sunday morning we gather for coffee\, snacks and conversation.
URL:https://immanuelpresby.org/event/coffee-conversation-2/2027-01-31/
LOCATION:Immanuel Presbyterian\, 3445 Clifton Avenue\, Cincinnati\, OH\, 45220
END:VEVENT
BEGIN:VEVENT
DTSTART;TZID=America/New_York:20270203T130000
DTEND;TZID=America/New_York:20270203T140000
DTSTAMP:20260419T223615
CREATED:20260209T175219Z
LAST-MODIFIED:20260209T175219Z
UID:10000852-1801659600-1801663200@immanuelpresby.org
SUMMARY:Bible Study
DESCRIPTION:Our virtual Bible study brings folks together each Wednesday for conversation\, study and reflection. Contact the office to learn more and to request the Zoom meeting information.
URL:https://immanuelpresby.org/event/bible-study-3-2-2/2027-02-03/
LOCATION:
END:VEVENT
BEGIN:VEVENT
DTSTART;TZID=America/New_York:20270207T103000
DTEND;TZID=America/New_York:20270207T113000
DTSTAMP:20260419T223615
CREATED:20260209T175533Z
LAST-MODIFIED:20260209T175556Z
UID:10000716-1801996200-1801999800@immanuelpresby.org
SUMMARY:Worship
DESCRIPTION:We welcome you to our weekly Sunday morning worship service in our sanctuary or online.
URL:https://immanuelpresby.org/event/worship-19-2-2/2027-02-07/
LOCATION:Immanuel Presbyterian\, 3445 Clifton Avenue\, Cincinnati\, OH\, 45220
END:VEVENT
BEGIN:VEVENT
DTSTART;TZID=America/New_York:20270207T113000
DTEND;TZID=America/New_York:20270207T120000
DTSTAMP:20260419T223615
CREATED:20260121T210536Z
LAST-MODIFIED:20260121T210536Z
UID:10001340-1801999800-1802001600@immanuelpresby.org
SUMMARY:Coffee & Conversation
DESCRIPTION:Following worship on Sunday morning we gather for coffee\, snacks and conversation.
URL:https://immanuelpresby.org/event/coffee-conversation-2/2027-02-07/
LOCATION:Immanuel Presbyterian\, 3445 Clifton Avenue\, Cincinnati\, OH\, 45220
END:VEVENT
BEGIN:VEVENT
DTSTART;TZID=America/New_York:20270210T130000
DTEND;TZID=America/New_York:20270210T140000
DTSTAMP:20260419T223615
CREATED:20260209T175219Z
LAST-MODIFIED:20260209T175219Z
UID:10000853-1802264400-1802268000@immanuelpresby.org
SUMMARY:Bible Study
DESCRIPTION:Our virtual Bible study brings folks together each Wednesday for conversation\, study and reflection. Contact the office to learn more and to request the Zoom meeting information.
URL:https://immanuelpresby.org/event/bible-study-3-2-2/2027-02-10/
LOCATION:
END:VEVENT
BEGIN:VEVENT
DTSTART;TZID=America/New_York:20270214T103000
DTEND;TZID=America/New_York:20270214T113000
DTSTAMP:20260419T223615
CREATED:20260209T175533Z
LAST-MODIFIED:20260209T175556Z
UID:10000717-1802601000-1802604600@immanuelpresby.org
SUMMARY:Worship
DESCRIPTION:We welcome you to our weekly Sunday morning worship service in our sanctuary or online.
URL:https://immanuelpresby.org/event/worship-19-2-2/2027-02-14/
LOCATION:Immanuel Presbyterian\, 3445 Clifton Avenue\, Cincinnati\, OH\, 45220
END:VEVENT
BEGIN:VEVENT
DTSTART;TZID=America/New_York:20270214T113000
DTEND;TZID=America/New_York:20270214T120000
DTSTAMP:20260419T223615
CREATED:20260121T210536Z
LAST-MODIFIED:20260121T210536Z
UID:10001341-1802604600-1802606400@immanuelpresby.org
SUMMARY:Coffee & Conversation
DESCRIPTION:Following worship on Sunday morning we gather for coffee\, snacks and conversation.
URL:https://immanuelpresby.org/event/coffee-conversation-2/2027-02-14/
LOCATION:Immanuel Presbyterian\, 3445 Clifton Avenue\, Cincinnati\, OH\, 45220
END:VEVENT
BEGIN:VEVENT
DTSTART;TZID=America/New_York:20270217T130000
DTEND;TZID=America/New_York:20270217T140000
DTSTAMP:20260419T223615
CREATED:20260209T175219Z
LAST-MODIFIED:20260209T175219Z
UID:10000854-1802869200-1802872800@immanuelpresby.org
SUMMARY:Bible Study
DESCRIPTION:Our virtual Bible study brings folks together each Wednesday for conversation\, study and reflection. Contact the office to learn more and to request the Zoom meeting information.
URL:https://immanuelpresby.org/event/bible-study-3-2-2/2027-02-17/
LOCATION:
END:VEVENT
BEGIN:VEVENT
DTSTART;TZID=America/New_York:20270221T103000
DTEND;TZID=America/New_York:20270221T113000
DTSTAMP:20260419T223615
CREATED:20260209T175533Z
LAST-MODIFIED:20260209T175556Z
UID:10000718-1803205800-1803209400@immanuelpresby.org
SUMMARY:Worship
DESCRIPTION:We welcome you to our weekly Sunday morning worship service in our sanctuary or online.
URL:https://immanuelpresby.org/event/worship-19-2-2/2027-02-21/
LOCATION:Immanuel Presbyterian\, 3445 Clifton Avenue\, Cincinnati\, OH\, 45220
END:VEVENT
BEGIN:VEVENT
DTSTART;TZID=America/New_York:20270221T113000
DTEND;TZID=America/New_York:20270221T120000
DTSTAMP:20260419T223616
CREATED:20260121T210536Z
LAST-MODIFIED:20260121T210536Z
UID:10001342-1803209400-1803211200@immanuelpresby.org
SUMMARY:Coffee & Conversation
DESCRIPTION:Following worship on Sunday morning we gather for coffee\, snacks and conversation.
URL:https://immanuelpresby.org/event/coffee-conversation-2/2027-02-21/
LOCATION:Immanuel Presbyterian\, 3445 Clifton Avenue\, Cincinnati\, OH\, 45220
END:VEVENT
BEGIN:VEVENT
DTSTART;TZID=America/New_York:20270224T130000
DTEND;TZID=America/New_York:20270224T140000
DTSTAMP:20260419T223616
CREATED:20260209T175219Z
LAST-MODIFIED:20260209T175219Z
UID:10000855-1803474000-1803477600@immanuelpresby.org
SUMMARY:Bible Study
DESCRIPTION:Our virtual Bible study brings folks together each Wednesday for conversation\, study and reflection. Contact the office to learn more and to request the Zoom meeting information.
URL:https://immanuelpresby.org/event/bible-study-3-2-2/2027-02-24/
LOCATION:
END:VEVENT
BEGIN:VEVENT
DTSTART;TZID=America/New_York:20270228T103000
DTEND;TZID=America/New_York:20270228T113000
DTSTAMP:20260419T223616
CREATED:20260209T175533Z
LAST-MODIFIED:20260209T175556Z
UID:10000719-1803810600-1803814200@immanuelpresby.org
SUMMARY:Worship
DESCRIPTION:We welcome you to our weekly Sunday morning worship service in our sanctuary or online.
URL:https://immanuelpresby.org/event/worship-19-2-2/2027-02-28/
LOCATION:Immanuel Presbyterian\, 3445 Clifton Avenue\, Cincinnati\, OH\, 45220
END:VEVENT
BEGIN:VEVENT
DTSTART;TZID=America/New_York:20270228T113000
DTEND;TZID=America/New_York:20270228T120000
DTSTAMP:20260419T223616
CREATED:20260121T210536Z
LAST-MODIFIED:20260121T210536Z
UID:10001343-1803814200-1803816000@immanuelpresby.org
SUMMARY:Coffee & Conversation
DESCRIPTION:Following worship on Sunday morning we gather for coffee\, snacks and conversation.
URL:https://immanuelpresby.org/event/coffee-conversation-2/2027-02-28/
LOCATION:Immanuel Presbyterian\, 3445 Clifton Avenue\, Cincinnati\, OH\, 45220
END:VEVENT
BEGIN:VEVENT
DTSTART;TZID=America/New_York:20270303T130000
DTEND;TZID=America/New_York:20270303T140000
DTSTAMP:20260419T223616
CREATED:20260209T175219Z
LAST-MODIFIED:20260209T175219Z
UID:10000856-1804078800-1804082400@immanuelpresby.org
SUMMARY:Bible Study
DESCRIPTION:Our virtual Bible study brings folks together each Wednesday for conversation\, study and reflection. Contact the office to learn more and to request the Zoom meeting information.
URL:https://immanuelpresby.org/event/bible-study-3-2-2/2027-03-03/
LOCATION:
END:VEVENT
BEGIN:VEVENT
DTSTART;TZID=America/New_York:20270307T103000
DTEND;TZID=America/New_York:20270307T113000
DTSTAMP:20260419T223616
CREATED:20260209T175533Z
LAST-MODIFIED:20260209T175556Z
UID:10000720-1804415400-1804419000@immanuelpresby.org
SUMMARY:Worship
DESCRIPTION:We welcome you to our weekly Sunday morning worship service in our sanctuary or online.
URL:https://immanuelpresby.org/event/worship-19-2-2/2027-03-07/
LOCATION:Immanuel Presbyterian\, 3445 Clifton Avenue\, Cincinnati\, OH\, 45220
END:VEVENT
BEGIN:VEVENT
DTSTART;TZID=America/New_York:20270307T113000
DTEND;TZID=America/New_York:20270307T120000
DTSTAMP:20260419T223616
CREATED:20260121T210536Z
LAST-MODIFIED:20260121T210536Z
UID:10001344-1804419000-1804420800@immanuelpresby.org
SUMMARY:Coffee & Conversation
DESCRIPTION:Following worship on Sunday morning we gather for coffee\, snacks and conversation.
URL:https://immanuelpresby.org/event/coffee-conversation-2/2027-03-07/
LOCATION:Immanuel Presbyterian\, 3445 Clifton Avenue\, Cincinnati\, OH\, 45220
END:VEVENT
BEGIN:VEVENT
DTSTART;TZID=America/New_York:20270310T130000
DTEND;TZID=America/New_York:20270310T140000
DTSTAMP:20260419T223616
CREATED:20260209T175219Z
LAST-MODIFIED:20260209T175219Z
UID:10000857-1804683600-1804687200@immanuelpresby.org
SUMMARY:Bible Study
DESCRIPTION:Our virtual Bible study brings folks together each Wednesday for conversation\, study and reflection. Contact the office to learn more and to request the Zoom meeting information.
URL:https://immanuelpresby.org/event/bible-study-3-2-2/2027-03-10/
LOCATION:
END:VEVENT
BEGIN:VEVENT
DTSTART;TZID=America/New_York:20270314T103000
DTEND;TZID=America/New_York:20270314T113000
DTSTAMP:20260419T223616
CREATED:20260209T175533Z
LAST-MODIFIED:20260209T175556Z
UID:10000721-1805020200-1805023800@immanuelpresby.org
SUMMARY:Worship
DESCRIPTION:We welcome you to our weekly Sunday morning worship service in our sanctuary or online.
URL:https://immanuelpresby.org/event/worship-19-2-2/2027-03-14/
LOCATION:Immanuel Presbyterian\, 3445 Clifton Avenue\, Cincinnati\, OH\, 45220
END:VEVENT
BEGIN:VEVENT
DTSTART;TZID=America/New_York:20270314T113000
DTEND;TZID=America/New_York:20270314T120000
DTSTAMP:20260419T223616
CREATED:20260121T210536Z
LAST-MODIFIED:20260121T210536Z
UID:10001345-1805023800-1805025600@immanuelpresby.org
SUMMARY:Coffee & Conversation
DESCRIPTION:Following worship on Sunday morning we gather for coffee\, snacks and conversation.
URL:https://immanuelpresby.org/event/coffee-conversation-2/2027-03-14/
LOCATION:Immanuel Presbyterian\, 3445 Clifton Avenue\, Cincinnati\, OH\, 45220
END:VEVENT
BEGIN:VEVENT
DTSTART;TZID=America/New_York:20270317T130000
DTEND;TZID=America/New_York:20270317T140000
DTSTAMP:20260419T223616
CREATED:20260209T175219Z
LAST-MODIFIED:20260209T175219Z
UID:10000858-1805288400-1805292000@immanuelpresby.org
SUMMARY:Bible Study
DESCRIPTION:Our virtual Bible study brings folks together each Wednesday for conversation\, study and reflection. Contact the office to learn more and to request the Zoom meeting information.
URL:https://immanuelpresby.org/event/bible-study-3-2-2/2027-03-17/
LOCATION:
END:VEVENT
BEGIN:VEVENT
DTSTART;TZID=America/New_York:20270321T103000
DTEND;TZID=America/New_York:20270321T113000
DTSTAMP:20260419T223616
CREATED:20260209T175533Z
LAST-MODIFIED:20260209T175556Z
UID:10000722-1805625000-1805628600@immanuelpresby.org
SUMMARY:Worship
DESCRIPTION:We welcome you to our weekly Sunday morning worship service in our sanctuary or online.
URL:https://immanuelpresby.org/event/worship-19-2-2/2027-03-21/
LOCATION:Immanuel Presbyterian\, 3445 Clifton Avenue\, Cincinnati\, OH\, 45220
END:VEVENT
BEGIN:VEVENT
DTSTART;TZID=America/New_York:20270321T113000
DTEND;TZID=America/New_York:20270321T120000
DTSTAMP:20260419T223616
CREATED:20260121T210536Z
LAST-MODIFIED:20260121T210536Z
UID:10001346-1805628600-1805630400@immanuelpresby.org
SUMMARY:Coffee & Conversation
DESCRIPTION:Following worship on Sunday morning we gather for coffee\, snacks and conversation.
URL:https://immanuelpresby.org/event/coffee-conversation-2/2027-03-21/
LOCATION:Immanuel Presbyterian\, 3445 Clifton Avenue\, Cincinnati\, OH\, 45220
END:VEVENT
BEGIN:VEVENT
DTSTART;TZID=America/New_York:20270324T130000
DTEND;TZID=America/New_York:20270324T140000
DTSTAMP:20260419T223616
CREATED:20260209T175219Z
LAST-MODIFIED:20260209T175219Z
UID:10000859-1805893200-1805896800@immanuelpresby.org
SUMMARY:Bible Study
DESCRIPTION:Our virtual Bible study brings folks together each Wednesday for conversation\, study and reflection. Contact the office to learn more and to request the Zoom meeting information.
URL:https://immanuelpresby.org/event/bible-study-3-2-2/2027-03-24/
LOCATION:
END:VEVENT
END:VCALENDAR