BEGIN:VCALENDAR
VERSION:2.0
PRODID:-//Immanuel Presbyterian Church - ECPv6.15.20//NONSGML v1.0//EN
CALSCALE:GREGORIAN
METHOD:PUBLISH
X-WR-CALNAME:Immanuel Presbyterian Church
X-ORIGINAL-URL:https://immanuelpresby.org
X-WR-CALDESC:Events for Immanuel Presbyterian Church
REFRESH-INTERVAL;VALUE=DURATION:PT1H
X-Robots-Tag:noindex
X-PUBLISHED-TTL:PT1H
BEGIN:VTIMEZONE
TZID:America/New_York
BEGIN:DAYLIGHT
TZOFFSETFROM:-0500
TZOFFSETTO:-0400
TZNAME:EDT
DTSTART:20260308T070000
END:DAYLIGHT
BEGIN:STANDARD
TZOFFSETFROM:-0400
TZOFFSETTO:-0500
TZNAME:EST
DTSTART:20261101T060000
END:STANDARD
BEGIN:DAYLIGHT
TZOFFSETFROM:-0500
TZOFFSETTO:-0400
TZNAME:EDT
DTSTART:20270314T070000
END:DAYLIGHT
BEGIN:STANDARD
TZOFFSETFROM:-0400
TZOFFSETTO:-0500
TZNAME:EST
DTSTART:20271107T060000
END:STANDARD
BEGIN:DAYLIGHT
TZOFFSETFROM:-0500
TZOFFSETTO:-0400
TZNAME:EDT
DTSTART:20280312T070000
END:DAYLIGHT
BEGIN:STANDARD
TZOFFSETFROM:-0400
TZOFFSETTO:-0500
TZNAME:EST
DTSTART:20281105T060000
END:STANDARD
END:VTIMEZONE
BEGIN:VEVENT
DTSTART;TZID=America/New_York:20270704T113000
DTEND;TZID=America/New_York:20270704T120000
DTSTAMP:20260424T044249
CREATED:20260121T210536Z
LAST-MODIFIED:20260121T210536Z
UID:10001361-1814700600-1814702400@immanuelpresby.org
SUMMARY:Coffee & Conversation
DESCRIPTION:Following worship on Sunday morning we gather for coffee\, snacks and conversation.
URL:https://immanuelpresby.org/event/coffee-conversation-2/2027-07-04/
LOCATION:Immanuel Presbyterian\, 3445 Clifton Avenue\, Cincinnati\, OH\, 45220
END:VEVENT
BEGIN:VEVENT
DTSTART;TZID=America/New_York:20270707T130000
DTEND;TZID=America/New_York:20270707T140000
DTSTAMP:20260424T044249
CREATED:20260209T175219Z
LAST-MODIFIED:20260209T175219Z
UID:10000874-1814965200-1814968800@immanuelpresby.org
SUMMARY:Bible Study
DESCRIPTION:Our virtual Bible study brings folks together each Wednesday for conversation\, study and reflection. Contact the office to learn more and to request the Zoom meeting information.
URL:https://immanuelpresby.org/event/bible-study-3-2-2/2027-07-07/
LOCATION:
END:VEVENT
BEGIN:VEVENT
DTSTART;TZID=America/New_York:20270711T103000
DTEND;TZID=America/New_York:20270711T113000
DTSTAMP:20260424T044249
CREATED:20260209T175533Z
LAST-MODIFIED:20260209T175556Z
UID:10000738-1815301800-1815305400@immanuelpresby.org
SUMMARY:Worship
DESCRIPTION:We welcome you to our weekly Sunday morning worship service in our sanctuary or online.
URL:https://immanuelpresby.org/event/worship-19-2-2/2027-07-11/
LOCATION:Immanuel Presbyterian\, 3445 Clifton Avenue\, Cincinnati\, OH\, 45220
END:VEVENT
BEGIN:VEVENT
DTSTART;TZID=America/New_York:20270711T113000
DTEND;TZID=America/New_York:20270711T120000
DTSTAMP:20260424T044250
CREATED:20260121T210536Z
LAST-MODIFIED:20260121T210536Z
UID:10001362-1815305400-1815307200@immanuelpresby.org
SUMMARY:Coffee & Conversation
DESCRIPTION:Following worship on Sunday morning we gather for coffee\, snacks and conversation.
URL:https://immanuelpresby.org/event/coffee-conversation-2/2027-07-11/
LOCATION:Immanuel Presbyterian\, 3445 Clifton Avenue\, Cincinnati\, OH\, 45220
END:VEVENT
BEGIN:VEVENT
DTSTART;TZID=America/New_York:20270714T130000
DTEND;TZID=America/New_York:20270714T140000
DTSTAMP:20260424T044250
CREATED:20260209T175219Z
LAST-MODIFIED:20260209T175219Z
UID:10000875-1815570000-1815573600@immanuelpresby.org
SUMMARY:Bible Study
DESCRIPTION:Our virtual Bible study brings folks together each Wednesday for conversation\, study and reflection. Contact the office to learn more and to request the Zoom meeting information.
URL:https://immanuelpresby.org/event/bible-study-3-2-2/2027-07-14/
LOCATION:
END:VEVENT
BEGIN:VEVENT
DTSTART;TZID=America/New_York:20270718T103000
DTEND;TZID=America/New_York:20270718T113000
DTSTAMP:20260424T044250
CREATED:20260209T175533Z
LAST-MODIFIED:20260209T175556Z
UID:10000739-1815906600-1815910200@immanuelpresby.org
SUMMARY:Worship
DESCRIPTION:We welcome you to our weekly Sunday morning worship service in our sanctuary or online.
URL:https://immanuelpresby.org/event/worship-19-2-2/2027-07-18/
LOCATION:Immanuel Presbyterian\, 3445 Clifton Avenue\, Cincinnati\, OH\, 45220
END:VEVENT
BEGIN:VEVENT
DTSTART;TZID=America/New_York:20270718T113000
DTEND;TZID=America/New_York:20270718T120000
DTSTAMP:20260424T044250
CREATED:20260121T210536Z
LAST-MODIFIED:20260121T210536Z
UID:10001363-1815910200-1815912000@immanuelpresby.org
SUMMARY:Coffee & Conversation
DESCRIPTION:Following worship on Sunday morning we gather for coffee\, snacks and conversation.
URL:https://immanuelpresby.org/event/coffee-conversation-2/2027-07-18/
LOCATION:Immanuel Presbyterian\, 3445 Clifton Avenue\, Cincinnati\, OH\, 45220
END:VEVENT
BEGIN:VEVENT
DTSTART;TZID=America/New_York:20270721T130000
DTEND;TZID=America/New_York:20270721T140000
DTSTAMP:20260424T044250
CREATED:20260209T175219Z
LAST-MODIFIED:20260209T175219Z
UID:10000876-1816174800-1816178400@immanuelpresby.org
SUMMARY:Bible Study
DESCRIPTION:Our virtual Bible study brings folks together each Wednesday for conversation\, study and reflection. Contact the office to learn more and to request the Zoom meeting information.
URL:https://immanuelpresby.org/event/bible-study-3-2-2/2027-07-21/
LOCATION:
END:VEVENT
BEGIN:VEVENT
DTSTART;TZID=America/New_York:20270725T103000
DTEND;TZID=America/New_York:20270725T113000
DTSTAMP:20260424T044250
CREATED:20260209T175533Z
LAST-MODIFIED:20260209T175556Z
UID:10000740-1816511400-1816515000@immanuelpresby.org
SUMMARY:Worship
DESCRIPTION:We welcome you to our weekly Sunday morning worship service in our sanctuary or online.
URL:https://immanuelpresby.org/event/worship-19-2-2/2027-07-25/
LOCATION:Immanuel Presbyterian\, 3445 Clifton Avenue\, Cincinnati\, OH\, 45220
END:VEVENT
BEGIN:VEVENT
DTSTART;TZID=America/New_York:20270725T113000
DTEND;TZID=America/New_York:20270725T120000
DTSTAMP:20260424T044250
CREATED:20260121T210536Z
LAST-MODIFIED:20260121T210536Z
UID:10001364-1816515000-1816516800@immanuelpresby.org
SUMMARY:Coffee & Conversation
DESCRIPTION:Following worship on Sunday morning we gather for coffee\, snacks and conversation.
URL:https://immanuelpresby.org/event/coffee-conversation-2/2027-07-25/
LOCATION:Immanuel Presbyterian\, 3445 Clifton Avenue\, Cincinnati\, OH\, 45220
END:VEVENT
BEGIN:VEVENT
DTSTART;TZID=America/New_York:20270728T130000
DTEND;TZID=America/New_York:20270728T140000
DTSTAMP:20260424T044250
CREATED:20260209T175219Z
LAST-MODIFIED:20260209T175219Z
UID:10000877-1816779600-1816783200@immanuelpresby.org
SUMMARY:Bible Study
DESCRIPTION:Our virtual Bible study brings folks together each Wednesday for conversation\, study and reflection. Contact the office to learn more and to request the Zoom meeting information.
URL:https://immanuelpresby.org/event/bible-study-3-2-2/2027-07-28/
LOCATION:
END:VEVENT
BEGIN:VEVENT
DTSTART;TZID=America/New_York:20270801T103000
DTEND;TZID=America/New_York:20270801T113000
DTSTAMP:20260424T044250
CREATED:20260209T175533Z
LAST-MODIFIED:20260209T175556Z
UID:10000741-1817116200-1817119800@immanuelpresby.org
SUMMARY:Worship
DESCRIPTION:We welcome you to our weekly Sunday morning worship service in our sanctuary or online.
URL:https://immanuelpresby.org/event/worship-19-2-2/2027-08-01/
LOCATION:Immanuel Presbyterian\, 3445 Clifton Avenue\, Cincinnati\, OH\, 45220
END:VEVENT
BEGIN:VEVENT
DTSTART;TZID=America/New_York:20270801T113000
DTEND;TZID=America/New_York:20270801T120000
DTSTAMP:20260424T044250
CREATED:20260121T210536Z
LAST-MODIFIED:20260121T210536Z
UID:10001365-1817119800-1817121600@immanuelpresby.org
SUMMARY:Coffee & Conversation
DESCRIPTION:Following worship on Sunday morning we gather for coffee\, snacks and conversation.
URL:https://immanuelpresby.org/event/coffee-conversation-2/2027-08-01/
LOCATION:Immanuel Presbyterian\, 3445 Clifton Avenue\, Cincinnati\, OH\, 45220
END:VEVENT
BEGIN:VEVENT
DTSTART;TZID=America/New_York:20270804T130000
DTEND;TZID=America/New_York:20270804T140000
DTSTAMP:20260424T044250
CREATED:20260209T175219Z
LAST-MODIFIED:20260209T175219Z
UID:10000878-1817384400-1817388000@immanuelpresby.org
SUMMARY:Bible Study
DESCRIPTION:Our virtual Bible study brings folks together each Wednesday for conversation\, study and reflection. Contact the office to learn more and to request the Zoom meeting information.
URL:https://immanuelpresby.org/event/bible-study-3-2-2/2027-08-04/
LOCATION:
END:VEVENT
BEGIN:VEVENT
DTSTART;TZID=America/New_York:20270808T103000
DTEND;TZID=America/New_York:20270808T113000
DTSTAMP:20260424T044250
CREATED:20260209T175533Z
LAST-MODIFIED:20260209T175556Z
UID:10000742-1817721000-1817724600@immanuelpresby.org
SUMMARY:Worship
DESCRIPTION:We welcome you to our weekly Sunday morning worship service in our sanctuary or online.
URL:https://immanuelpresby.org/event/worship-19-2-2/2027-08-08/
LOCATION:Immanuel Presbyterian\, 3445 Clifton Avenue\, Cincinnati\, OH\, 45220
END:VEVENT
BEGIN:VEVENT
DTSTART;TZID=America/New_York:20270808T113000
DTEND;TZID=America/New_York:20270808T120000
DTSTAMP:20260424T044250
CREATED:20260121T210536Z
LAST-MODIFIED:20260121T210536Z
UID:10001366-1817724600-1817726400@immanuelpresby.org
SUMMARY:Coffee & Conversation
DESCRIPTION:Following worship on Sunday morning we gather for coffee\, snacks and conversation.
URL:https://immanuelpresby.org/event/coffee-conversation-2/2027-08-08/
LOCATION:Immanuel Presbyterian\, 3445 Clifton Avenue\, Cincinnati\, OH\, 45220
END:VEVENT
BEGIN:VEVENT
DTSTART;TZID=America/New_York:20270811T130000
DTEND;TZID=America/New_York:20270811T140000
DTSTAMP:20260424T044250
CREATED:20260209T175219Z
LAST-MODIFIED:20260209T175219Z
UID:10000879-1817989200-1817992800@immanuelpresby.org
SUMMARY:Bible Study
DESCRIPTION:Our virtual Bible study brings folks together each Wednesday for conversation\, study and reflection. Contact the office to learn more and to request the Zoom meeting information.
URL:https://immanuelpresby.org/event/bible-study-3-2-2/2027-08-11/
LOCATION:
END:VEVENT
BEGIN:VEVENT
DTSTART;TZID=America/New_York:20270815T103000
DTEND;TZID=America/New_York:20270815T113000
DTSTAMP:20260424T044250
CREATED:20260209T175533Z
LAST-MODIFIED:20260209T175556Z
UID:10000743-1818325800-1818329400@immanuelpresby.org
SUMMARY:Worship
DESCRIPTION:We welcome you to our weekly Sunday morning worship service in our sanctuary or online.
URL:https://immanuelpresby.org/event/worship-19-2-2/2027-08-15/
LOCATION:Immanuel Presbyterian\, 3445 Clifton Avenue\, Cincinnati\, OH\, 45220
END:VEVENT
BEGIN:VEVENT
DTSTART;TZID=America/New_York:20270815T113000
DTEND;TZID=America/New_York:20270815T120000
DTSTAMP:20260424T044251
CREATED:20260121T210536Z
LAST-MODIFIED:20260121T210536Z
UID:10001367-1818329400-1818331200@immanuelpresby.org
SUMMARY:Coffee & Conversation
DESCRIPTION:Following worship on Sunday morning we gather for coffee\, snacks and conversation.
URL:https://immanuelpresby.org/event/coffee-conversation-2/2027-08-15/
LOCATION:Immanuel Presbyterian\, 3445 Clifton Avenue\, Cincinnati\, OH\, 45220
END:VEVENT
BEGIN:VEVENT
DTSTART;TZID=America/New_York:20270818T130000
DTEND;TZID=America/New_York:20270818T140000
DTSTAMP:20260424T044251
CREATED:20260209T175219Z
LAST-MODIFIED:20260209T175219Z
UID:10000880-1818594000-1818597600@immanuelpresby.org
SUMMARY:Bible Study
DESCRIPTION:Our virtual Bible study brings folks together each Wednesday for conversation\, study and reflection. Contact the office to learn more and to request the Zoom meeting information.
URL:https://immanuelpresby.org/event/bible-study-3-2-2/2027-08-18/
LOCATION:
END:VEVENT
BEGIN:VEVENT
DTSTART;TZID=America/New_York:20270822T103000
DTEND;TZID=America/New_York:20270822T113000
DTSTAMP:20260424T044251
CREATED:20260209T175533Z
LAST-MODIFIED:20260209T175556Z
UID:10000744-1818930600-1818934200@immanuelpresby.org
SUMMARY:Worship
DESCRIPTION:We welcome you to our weekly Sunday morning worship service in our sanctuary or online.
URL:https://immanuelpresby.org/event/worship-19-2-2/2027-08-22/
LOCATION:Immanuel Presbyterian\, 3445 Clifton Avenue\, Cincinnati\, OH\, 45220
END:VEVENT
BEGIN:VEVENT
DTSTART;TZID=America/New_York:20270822T113000
DTEND;TZID=America/New_York:20270822T120000
DTSTAMP:20260424T044251
CREATED:20260121T210536Z
LAST-MODIFIED:20260121T210536Z
UID:10001368-1818934200-1818936000@immanuelpresby.org
SUMMARY:Coffee & Conversation
DESCRIPTION:Following worship on Sunday morning we gather for coffee\, snacks and conversation.
URL:https://immanuelpresby.org/event/coffee-conversation-2/2027-08-22/
LOCATION:Immanuel Presbyterian\, 3445 Clifton Avenue\, Cincinnati\, OH\, 45220
END:VEVENT
BEGIN:VEVENT
DTSTART;TZID=America/New_York:20270825T130000
DTEND;TZID=America/New_York:20270825T140000
DTSTAMP:20260424T044251
CREATED:20260209T175219Z
LAST-MODIFIED:20260209T175219Z
UID:10000881-1819198800-1819202400@immanuelpresby.org
SUMMARY:Bible Study
DESCRIPTION:Our virtual Bible study brings folks together each Wednesday for conversation\, study and reflection. Contact the office to learn more and to request the Zoom meeting information.
URL:https://immanuelpresby.org/event/bible-study-3-2-2/2027-08-25/
LOCATION:
END:VEVENT
BEGIN:VEVENT
DTSTART;TZID=America/New_York:20270829T103000
DTEND;TZID=America/New_York:20270829T113000
DTSTAMP:20260424T044251
CREATED:20260209T175533Z
LAST-MODIFIED:20260209T175556Z
UID:10000745-1819535400-1819539000@immanuelpresby.org
SUMMARY:Worship
DESCRIPTION:We welcome you to our weekly Sunday morning worship service in our sanctuary or online.
URL:https://immanuelpresby.org/event/worship-19-2-2/2027-08-29/
LOCATION:Immanuel Presbyterian\, 3445 Clifton Avenue\, Cincinnati\, OH\, 45220
END:VEVENT
BEGIN:VEVENT
DTSTART;TZID=America/New_York:20270829T113000
DTEND;TZID=America/New_York:20270829T120000
DTSTAMP:20260424T044251
CREATED:20260121T210536Z
LAST-MODIFIED:20260121T210536Z
UID:10001369-1819539000-1819540800@immanuelpresby.org
SUMMARY:Coffee & Conversation
DESCRIPTION:Following worship on Sunday morning we gather for coffee\, snacks and conversation.
URL:https://immanuelpresby.org/event/coffee-conversation-2/2027-08-29/
LOCATION:Immanuel Presbyterian\, 3445 Clifton Avenue\, Cincinnati\, OH\, 45220
END:VEVENT
BEGIN:VEVENT
DTSTART;TZID=America/New_York:20270901T130000
DTEND;TZID=America/New_York:20270901T140000
DTSTAMP:20260424T044251
CREATED:20260209T175219Z
LAST-MODIFIED:20260209T175219Z
UID:10000882-1819803600-1819807200@immanuelpresby.org
SUMMARY:Bible Study
DESCRIPTION:Our virtual Bible study brings folks together each Wednesday for conversation\, study and reflection. Contact the office to learn more and to request the Zoom meeting information.
URL:https://immanuelpresby.org/event/bible-study-3-2-2/2027-09-01/
LOCATION:
END:VEVENT
BEGIN:VEVENT
DTSTART;TZID=America/New_York:20270905T103000
DTEND;TZID=America/New_York:20270905T113000
DTSTAMP:20260424T044251
CREATED:20260209T175533Z
LAST-MODIFIED:20260209T175556Z
UID:10000746-1820140200-1820143800@immanuelpresby.org
SUMMARY:Worship
DESCRIPTION:We welcome you to our weekly Sunday morning worship service in our sanctuary or online.
URL:https://immanuelpresby.org/event/worship-19-2-2/2027-09-05/
LOCATION:Immanuel Presbyterian\, 3445 Clifton Avenue\, Cincinnati\, OH\, 45220
END:VEVENT
BEGIN:VEVENT
DTSTART;TZID=America/New_York:20270905T113000
DTEND;TZID=America/New_York:20270905T120000
DTSTAMP:20260424T044251
CREATED:20260121T210536Z
LAST-MODIFIED:20260121T210536Z
UID:10001370-1820143800-1820145600@immanuelpresby.org
SUMMARY:Coffee & Conversation
DESCRIPTION:Following worship on Sunday morning we gather for coffee\, snacks and conversation.
URL:https://immanuelpresby.org/event/coffee-conversation-2/2027-09-05/
LOCATION:Immanuel Presbyterian\, 3445 Clifton Avenue\, Cincinnati\, OH\, 45220
END:VEVENT
BEGIN:VEVENT
DTSTART;TZID=America/New_York:20270908T130000
DTEND;TZID=America/New_York:20270908T140000
DTSTAMP:20260424T044251
CREATED:20260209T175219Z
LAST-MODIFIED:20260209T175219Z
UID:10000883-1820408400-1820412000@immanuelpresby.org
SUMMARY:Bible Study
DESCRIPTION:Our virtual Bible study brings folks together each Wednesday for conversation\, study and reflection. Contact the office to learn more and to request the Zoom meeting information.
URL:https://immanuelpresby.org/event/bible-study-3-2-2/2027-09-08/
LOCATION:
END:VEVENT
BEGIN:VEVENT
DTSTART;TZID=America/New_York:20270912T103000
DTEND;TZID=America/New_York:20270912T113000
DTSTAMP:20260424T044251
CREATED:20260209T175533Z
LAST-MODIFIED:20260209T175556Z
UID:10000747-1820745000-1820748600@immanuelpresby.org
SUMMARY:Worship
DESCRIPTION:We welcome you to our weekly Sunday morning worship service in our sanctuary or online.
URL:https://immanuelpresby.org/event/worship-19-2-2/2027-09-12/
LOCATION:Immanuel Presbyterian\, 3445 Clifton Avenue\, Cincinnati\, OH\, 45220
END:VEVENT
END:VCALENDAR