BEGIN:VCALENDAR
VERSION:2.0
PRODID:-//Immanuel Presbyterian Church - ECPv6.15.20//NONSGML v1.0//EN
CALSCALE:GREGORIAN
METHOD:PUBLISH
X-ORIGINAL-URL:https://immanuelpresby.org
X-WR-CALDESC:Events for Immanuel Presbyterian Church
REFRESH-INTERVAL;VALUE=DURATION:PT1H
X-Robots-Tag:noindex
X-PUBLISHED-TTL:PT1H
BEGIN:VTIMEZONE
TZID:America/New_York
BEGIN:DAYLIGHT
TZOFFSETFROM:-0500
TZOFFSETTO:-0400
TZNAME:EDT
DTSTART:20210314T070000
END:DAYLIGHT
BEGIN:STANDARD
TZOFFSETFROM:-0400
TZOFFSETTO:-0500
TZNAME:EST
DTSTART:20211107T060000
END:STANDARD
BEGIN:DAYLIGHT
TZOFFSETFROM:-0500
TZOFFSETTO:-0400
TZNAME:EDT
DTSTART:20220313T070000
END:DAYLIGHT
BEGIN:STANDARD
TZOFFSETFROM:-0400
TZOFFSETTO:-0500
TZNAME:EST
DTSTART:20221106T060000
END:STANDARD
BEGIN:DAYLIGHT
TZOFFSETFROM:-0500
TZOFFSETTO:-0400
TZNAME:EDT
DTSTART:20230312T070000
END:DAYLIGHT
BEGIN:STANDARD
TZOFFSETFROM:-0400
TZOFFSETTO:-0500
TZNAME:EST
DTSTART:20231105T060000
END:STANDARD
END:VTIMEZONE
BEGIN:VEVENT
DTSTART;TZID=America/New_York:20220820T100000
DTEND;TZID=America/New_York:20220820T130000
DTSTAMP:20260419T194409
CREATED:20220524T220357Z
LAST-MODIFIED:20220526T172610Z
UID:10000489-1660989600-1661000400@immanuelpresby.org
SUMMARY:Community Collection Day!
DESCRIPTION:Benefitting our neighbors by collecting donations of non-food items\, school supplies and items for Christmas Shoeboxes.
URL:https://immanuelpresby.org/event/community-collection-day/2022-08-20/
ATTACH;FMTTYPE=image/jpeg:https://immanuelpresby.org/wp-content/uploads/2022/03/IMG_6093-scaled.jpg
ORGANIZER;CN="Immanuel Presbyterian Church - Rev. Brad Sheppard":MAILTO:secretary@immanuelpresby.org
END:VEVENT
BEGIN:VEVENT
DTSTART;TZID=America/New_York:20220804T193000
DTEND;TZID=America/New_York:20220804T210000
DTSTAMP:20260419T194409
CREATED:20220427T234444Z
LAST-MODIFIED:20220427T234539Z
UID:10000458-1659641400-1659646800@immanuelpresby.org
SUMMARY:Pub Theology
DESCRIPTION:Bring your questions\, your curiosity\, and pull up a chair. Be ready to engage with people of varying religious traditions\, philosophical perspectives and life experiences. You’ll be able to share your own wrestlings and thoughts while learning something new along the way. . .
URL:https://immanuelpresby.org/event/pub-theology/2022-08-04/
LOCATION:Upside Brew\, 329 Ludlow Ave\, Clifton\, United States
ATTACH;FMTTYPE=image/jpeg:https://immanuelpresby.org/wp-content/uploads/2022/04/pub-theology.jpg
ORGANIZER;CN="Immanuel Presbyterian Church - Rev. Brad Sheppard":MAILTO:secretary@immanuelpresby.org
END:VEVENT
BEGIN:VEVENT
DTSTART;TZID=America/New_York:20220721T193000
DTEND;TZID=America/New_York:20220721T210000
DTSTAMP:20260419T194409
CREATED:20220427T234444Z
LAST-MODIFIED:20220427T234539Z
UID:10000457-1658431800-1658437200@immanuelpresby.org
SUMMARY:Pub Theology
DESCRIPTION:Bring your questions\, your curiosity\, and pull up a chair. Be ready to engage with people of varying religious traditions\, philosophical perspectives and life experiences. You’ll be able to share your own wrestlings and thoughts while learning something new along the way. . .
URL:https://immanuelpresby.org/event/pub-theology/2022-07-21/
LOCATION:Upside Brew\, 329 Ludlow Ave\, Clifton\, United States
ATTACH;FMTTYPE=image/jpeg:https://immanuelpresby.org/wp-content/uploads/2022/04/pub-theology.jpg
ORGANIZER;CN="Immanuel Presbyterian Church - Rev. Brad Sheppard":MAILTO:secretary@immanuelpresby.org
END:VEVENT
BEGIN:VEVENT
DTSTART;TZID=America/New_York:20220716T100000
DTEND;TZID=America/New_York:20220716T130000
DTSTAMP:20260419T194409
CREATED:20220524T220357Z
LAST-MODIFIED:20220526T172610Z
UID:10000488-1657965600-1657976400@immanuelpresby.org
SUMMARY:Community Collection Day!
DESCRIPTION:Benefitting our neighbors by collecting donations of non-food items\, school supplies and items for Christmas Shoeboxes.
URL:https://immanuelpresby.org/event/community-collection-day/2022-07-16/
ATTACH;FMTTYPE=image/jpeg:https://immanuelpresby.org/wp-content/uploads/2022/03/IMG_6093-scaled.jpg
ORGANIZER;CN="Immanuel Presbyterian Church - Rev. Brad Sheppard":MAILTO:secretary@immanuelpresby.org
END:VEVENT
BEGIN:VEVENT
DTSTART;TZID=America/New_York:20220630T193000
DTEND;TZID=America/New_York:20220630T210000
DTSTAMP:20260419T194409
CREATED:20220427T234444Z
LAST-MODIFIED:20220427T234539Z
UID:10000456-1656617400-1656622800@immanuelpresby.org
SUMMARY:Pub Theology
DESCRIPTION:Bring your questions\, your curiosity\, and pull up a chair. Be ready to engage with people of varying religious traditions\, philosophical perspectives and life experiences. You’ll be able to share your own wrestlings and thoughts while learning something new along the way. . .
URL:https://immanuelpresby.org/event/pub-theology/2022-06-30/
LOCATION:Upside Brew\, 329 Ludlow Ave\, Clifton\, United States
ATTACH;FMTTYPE=image/jpeg:https://immanuelpresby.org/wp-content/uploads/2022/04/pub-theology.jpg
ORGANIZER;CN="Immanuel Presbyterian Church - Rev. Brad Sheppard":MAILTO:secretary@immanuelpresby.org
END:VEVENT
BEGIN:VEVENT
DTSTART;TZID=America/New_York:20220618T100000
DTEND;TZID=America/New_York:20220618T130000
DTSTAMP:20260419T194409
CREATED:20220524T220357Z
LAST-MODIFIED:20220526T172610Z
UID:10000487-1655546400-1655557200@immanuelpresby.org
SUMMARY:Community Collection Day!
DESCRIPTION:Benefitting our neighbors by collecting donations of non-food items\, school supplies and items for Christmas Shoeboxes.
URL:https://immanuelpresby.org/event/community-collection-day/2022-06-18/
ATTACH;FMTTYPE=image/jpeg:https://immanuelpresby.org/wp-content/uploads/2022/03/IMG_6093-scaled.jpg
ORGANIZER;CN="Immanuel Presbyterian Church - Rev. Brad Sheppard":MAILTO:secretary@immanuelpresby.org
END:VEVENT
BEGIN:VEVENT
DTSTART;TZID=America/New_York:20220602T193000
DTEND;TZID=America/New_York:20220602T210000
DTSTAMP:20260419T194409
CREATED:20220427T234444Z
LAST-MODIFIED:20220427T234539Z
UID:10000455-1654198200-1654203600@immanuelpresby.org
SUMMARY:Pub Theology
DESCRIPTION:Bring your questions\, your curiosity\, and pull up a chair. Be ready to engage with people of varying religious traditions\, philosophical perspectives and life experiences. You’ll be able to share your own wrestlings and thoughts while learning something new along the way. . .
URL:https://immanuelpresby.org/event/pub-theology/2022-06-02/
LOCATION:Upside Brew\, 329 Ludlow Ave\, Clifton\, United States
ATTACH;FMTTYPE=image/jpeg:https://immanuelpresby.org/wp-content/uploads/2022/04/pub-theology.jpg
ORGANIZER;CN="Immanuel Presbyterian Church - Rev. Brad Sheppard":MAILTO:secretary@immanuelpresby.org
END:VEVENT
BEGIN:VEVENT
DTSTART;TZID=America/New_York:20220526T193000
DTEND;TZID=America/New_York:20220526T210000
DTSTAMP:20260419T194409
CREATED:20220427T234444Z
LAST-MODIFIED:20220427T234539Z
UID:10000454-1653593400-1653598800@immanuelpresby.org
SUMMARY:Pub Theology
DESCRIPTION:Bring your questions\, your curiosity\, and pull up a chair. Be ready to engage with people of varying religious traditions\, philosophical perspectives and life experiences. You’ll be able to share your own wrestlings and thoughts while learning something new along the way. . .
URL:https://immanuelpresby.org/event/pub-theology/2022-05-26/
LOCATION:Upside Brew\, 329 Ludlow Ave\, Clifton\, United States
ATTACH;FMTTYPE=image/jpeg:https://immanuelpresby.org/wp-content/uploads/2022/04/pub-theology.jpg
ORGANIZER;CN="Immanuel Presbyterian Church - Rev. Brad Sheppard":MAILTO:secretary@immanuelpresby.org
END:VEVENT
BEGIN:VEVENT
DTSTART;TZID=America/New_York:20220505T193000
DTEND;TZID=America/New_York:20220505T210000
DTSTAMP:20260419T194409
CREATED:20220427T234444Z
LAST-MODIFIED:20220427T234539Z
UID:10000453-1651779000-1651784400@immanuelpresby.org
SUMMARY:Pub Theology
DESCRIPTION:Bring your questions\, your curiosity\, and pull up a chair. Be ready to engage with people of varying religious traditions\, philosophical perspectives and life experiences. You’ll be able to share your own wrestlings and thoughts while learning something new along the way. . .
URL:https://immanuelpresby.org/event/pub-theology/2022-05-05/
LOCATION:Upside Brew\, 329 Ludlow Ave\, Clifton\, United States
ATTACH;FMTTYPE=image/jpeg:https://immanuelpresby.org/wp-content/uploads/2022/04/pub-theology.jpg
ORGANIZER;CN="Immanuel Presbyterian Church - Rev. Brad Sheppard":MAILTO:secretary@immanuelpresby.org
END:VEVENT
END:VCALENDAR