BEGIN:VCALENDAR
VERSION:2.0
PRODID:-//Immanuel Presbyterian Church - ECPv6.15.20//NONSGML v1.0//EN
CALSCALE:GREGORIAN
METHOD:PUBLISH
X-ORIGINAL-URL:https://immanuelpresby.org
X-WR-CALDESC:Events for Immanuel Presbyterian Church
REFRESH-INTERVAL;VALUE=DURATION:PT1H
X-Robots-Tag:noindex
X-PUBLISHED-TTL:PT1H
BEGIN:VTIMEZONE
TZID:America/New_York
BEGIN:DAYLIGHT
TZOFFSETFROM:-0500
TZOFFSETTO:-0400
TZNAME:EDT
DTSTART:20260308T070000
END:DAYLIGHT
BEGIN:STANDARD
TZOFFSETFROM:-0400
TZOFFSETTO:-0500
TZNAME:EST
DTSTART:20261101T060000
END:STANDARD
BEGIN:DAYLIGHT
TZOFFSETFROM:-0500
TZOFFSETTO:-0400
TZNAME:EDT
DTSTART:20270314T070000
END:DAYLIGHT
BEGIN:STANDARD
TZOFFSETFROM:-0400
TZOFFSETTO:-0500
TZNAME:EST
DTSTART:20271107T060000
END:STANDARD
BEGIN:DAYLIGHT
TZOFFSETFROM:-0500
TZOFFSETTO:-0400
TZNAME:EDT
DTSTART:20280312T070000
END:DAYLIGHT
BEGIN:STANDARD
TZOFFSETFROM:-0400
TZOFFSETTO:-0500
TZNAME:EST
DTSTART:20281105T060000
END:STANDARD
END:VTIMEZONE
BEGIN:VEVENT
DTSTART;TZID=America/New_York:20270509T103000
DTEND;TZID=America/New_York:20270509T113000
DTSTAMP:20260420T185817
CREATED:20260209T175533Z
LAST-MODIFIED:20260209T175556Z
UID:10000729-1809858600-1809862200@immanuelpresby.org
SUMMARY:Worship
DESCRIPTION:We welcome you to our weekly Sunday morning worship service in our sanctuary or online.
URL:https://immanuelpresby.org/event/worship-19-2-2/2027-05-09/
LOCATION:Immanuel Presbyterian\, 3445 Clifton Avenue\, Cincinnati\, OH\, 45220
END:VEVENT
BEGIN:VEVENT
DTSTART;TZID=America/New_York:20270509T113000
DTEND;TZID=America/New_York:20270509T120000
DTSTAMP:20260420T185818
CREATED:20260121T210536Z
LAST-MODIFIED:20260121T210536Z
UID:10001353-1809862200-1809864000@immanuelpresby.org
SUMMARY:Coffee & Conversation
DESCRIPTION:Following worship on Sunday morning we gather for coffee\, snacks and conversation.
URL:https://immanuelpresby.org/event/coffee-conversation-2/2027-05-09/
LOCATION:Immanuel Presbyterian\, 3445 Clifton Avenue\, Cincinnati\, OH\, 45220
END:VEVENT
BEGIN:VEVENT
DTSTART;TZID=America/New_York:20270512T130000
DTEND;TZID=America/New_York:20270512T140000
DTSTAMP:20260420T185818
CREATED:20260209T175219Z
LAST-MODIFIED:20260209T175219Z
UID:10000866-1810126800-1810130400@immanuelpresby.org
SUMMARY:Bible Study
DESCRIPTION:Our virtual Bible study brings folks together each Wednesday for conversation\, study and reflection. Contact the office to learn more and to request the Zoom meeting information.
URL:https://immanuelpresby.org/event/bible-study-3-2-2/2027-05-12/
LOCATION:
END:VEVENT
BEGIN:VEVENT
DTSTART;TZID=America/New_York:20270516T103000
DTEND;TZID=America/New_York:20270516T113000
DTSTAMP:20260420T185818
CREATED:20260209T175533Z
LAST-MODIFIED:20260209T175556Z
UID:10000730-1810463400-1810467000@immanuelpresby.org
SUMMARY:Worship
DESCRIPTION:We welcome you to our weekly Sunday morning worship service in our sanctuary or online.
URL:https://immanuelpresby.org/event/worship-19-2-2/2027-05-16/
LOCATION:Immanuel Presbyterian\, 3445 Clifton Avenue\, Cincinnati\, OH\, 45220
END:VEVENT
BEGIN:VEVENT
DTSTART;TZID=America/New_York:20270516T113000
DTEND;TZID=America/New_York:20270516T120000
DTSTAMP:20260420T185818
CREATED:20260121T210536Z
LAST-MODIFIED:20260121T210536Z
UID:10001354-1810467000-1810468800@immanuelpresby.org
SUMMARY:Coffee & Conversation
DESCRIPTION:Following worship on Sunday morning we gather for coffee\, snacks and conversation.
URL:https://immanuelpresby.org/event/coffee-conversation-2/2027-05-16/
LOCATION:Immanuel Presbyterian\, 3445 Clifton Avenue\, Cincinnati\, OH\, 45220
END:VEVENT
BEGIN:VEVENT
DTSTART;TZID=America/New_York:20270519T130000
DTEND;TZID=America/New_York:20270519T140000
DTSTAMP:20260420T185818
CREATED:20260209T175219Z
LAST-MODIFIED:20260209T175219Z
UID:10000867-1810731600-1810735200@immanuelpresby.org
SUMMARY:Bible Study
DESCRIPTION:Our virtual Bible study brings folks together each Wednesday for conversation\, study and reflection. Contact the office to learn more and to request the Zoom meeting information.
URL:https://immanuelpresby.org/event/bible-study-3-2-2/2027-05-19/
LOCATION:
END:VEVENT
BEGIN:VEVENT
DTSTART;TZID=America/New_York:20270523T103000
DTEND;TZID=America/New_York:20270523T113000
DTSTAMP:20260420T185818
CREATED:20260209T175533Z
LAST-MODIFIED:20260209T175556Z
UID:10000731-1811068200-1811071800@immanuelpresby.org
SUMMARY:Worship
DESCRIPTION:We welcome you to our weekly Sunday morning worship service in our sanctuary or online.
URL:https://immanuelpresby.org/event/worship-19-2-2/2027-05-23/
LOCATION:Immanuel Presbyterian\, 3445 Clifton Avenue\, Cincinnati\, OH\, 45220
END:VEVENT
BEGIN:VEVENT
DTSTART;TZID=America/New_York:20270523T113000
DTEND;TZID=America/New_York:20270523T120000
DTSTAMP:20260420T185818
CREATED:20260121T210536Z
LAST-MODIFIED:20260121T210536Z
UID:10001355-1811071800-1811073600@immanuelpresby.org
SUMMARY:Coffee & Conversation
DESCRIPTION:Following worship on Sunday morning we gather for coffee\, snacks and conversation.
URL:https://immanuelpresby.org/event/coffee-conversation-2/2027-05-23/
LOCATION:Immanuel Presbyterian\, 3445 Clifton Avenue\, Cincinnati\, OH\, 45220
END:VEVENT
BEGIN:VEVENT
DTSTART;TZID=America/New_York:20270526T130000
DTEND;TZID=America/New_York:20270526T140000
DTSTAMP:20260420T185818
CREATED:20260209T175219Z
LAST-MODIFIED:20260209T175219Z
UID:10000868-1811336400-1811340000@immanuelpresby.org
SUMMARY:Bible Study
DESCRIPTION:Our virtual Bible study brings folks together each Wednesday for conversation\, study and reflection. Contact the office to learn more and to request the Zoom meeting information.
URL:https://immanuelpresby.org/event/bible-study-3-2-2/2027-05-26/
LOCATION:
END:VEVENT
BEGIN:VEVENT
DTSTART;TZID=America/New_York:20270530T103000
DTEND;TZID=America/New_York:20270530T113000
DTSTAMP:20260420T185818
CREATED:20260209T175533Z
LAST-MODIFIED:20260209T175556Z
UID:10000732-1811673000-1811676600@immanuelpresby.org
SUMMARY:Worship
DESCRIPTION:We welcome you to our weekly Sunday morning worship service in our sanctuary or online.
URL:https://immanuelpresby.org/event/worship-19-2-2/2027-05-30/
LOCATION:Immanuel Presbyterian\, 3445 Clifton Avenue\, Cincinnati\, OH\, 45220
END:VEVENT
BEGIN:VEVENT
DTSTART;TZID=America/New_York:20270530T113000
DTEND;TZID=America/New_York:20270530T120000
DTSTAMP:20260420T185819
CREATED:20260121T210536Z
LAST-MODIFIED:20260121T210536Z
UID:10001356-1811676600-1811678400@immanuelpresby.org
SUMMARY:Coffee & Conversation
DESCRIPTION:Following worship on Sunday morning we gather for coffee\, snacks and conversation.
URL:https://immanuelpresby.org/event/coffee-conversation-2/2027-05-30/
LOCATION:Immanuel Presbyterian\, 3445 Clifton Avenue\, Cincinnati\, OH\, 45220
END:VEVENT
BEGIN:VEVENT
DTSTART;TZID=America/New_York:20270602T130000
DTEND;TZID=America/New_York:20270602T140000
DTSTAMP:20260420T185819
CREATED:20260209T175219Z
LAST-MODIFIED:20260209T175219Z
UID:10000869-1811941200-1811944800@immanuelpresby.org
SUMMARY:Bible Study
DESCRIPTION:Our virtual Bible study brings folks together each Wednesday for conversation\, study and reflection. Contact the office to learn more and to request the Zoom meeting information.
URL:https://immanuelpresby.org/event/bible-study-3-2-2/2027-06-02/
LOCATION:
END:VEVENT
BEGIN:VEVENT
DTSTART;TZID=America/New_York:20270606T103000
DTEND;TZID=America/New_York:20270606T113000
DTSTAMP:20260420T185819
CREATED:20260209T175533Z
LAST-MODIFIED:20260209T175556Z
UID:10000733-1812277800-1812281400@immanuelpresby.org
SUMMARY:Worship
DESCRIPTION:We welcome you to our weekly Sunday morning worship service in our sanctuary or online.
URL:https://immanuelpresby.org/event/worship-19-2-2/2027-06-06/
LOCATION:Immanuel Presbyterian\, 3445 Clifton Avenue\, Cincinnati\, OH\, 45220
END:VEVENT
BEGIN:VEVENT
DTSTART;TZID=America/New_York:20270606T113000
DTEND;TZID=America/New_York:20270606T120000
DTSTAMP:20260420T185819
CREATED:20260121T210536Z
LAST-MODIFIED:20260121T210536Z
UID:10001357-1812281400-1812283200@immanuelpresby.org
SUMMARY:Coffee & Conversation
DESCRIPTION:Following worship on Sunday morning we gather for coffee\, snacks and conversation.
URL:https://immanuelpresby.org/event/coffee-conversation-2/2027-06-06/
LOCATION:Immanuel Presbyterian\, 3445 Clifton Avenue\, Cincinnati\, OH\, 45220
END:VEVENT
BEGIN:VEVENT
DTSTART;TZID=America/New_York:20270609T130000
DTEND;TZID=America/New_York:20270609T140000
DTSTAMP:20260420T185819
CREATED:20260209T175219Z
LAST-MODIFIED:20260209T175219Z
UID:10000870-1812546000-1812549600@immanuelpresby.org
SUMMARY:Bible Study
DESCRIPTION:Our virtual Bible study brings folks together each Wednesday for conversation\, study and reflection. Contact the office to learn more and to request the Zoom meeting information.
URL:https://immanuelpresby.org/event/bible-study-3-2-2/2027-06-09/
LOCATION:
END:VEVENT
BEGIN:VEVENT
DTSTART;TZID=America/New_York:20270613T103000
DTEND;TZID=America/New_York:20270613T113000
DTSTAMP:20260420T185819
CREATED:20260209T175533Z
LAST-MODIFIED:20260209T175556Z
UID:10000734-1812882600-1812886200@immanuelpresby.org
SUMMARY:Worship
DESCRIPTION:We welcome you to our weekly Sunday morning worship service in our sanctuary or online.
URL:https://immanuelpresby.org/event/worship-19-2-2/2027-06-13/
LOCATION:Immanuel Presbyterian\, 3445 Clifton Avenue\, Cincinnati\, OH\, 45220
END:VEVENT
BEGIN:VEVENT
DTSTART;TZID=America/New_York:20270613T113000
DTEND;TZID=America/New_York:20270613T120000
DTSTAMP:20260420T185820
CREATED:20260121T210536Z
LAST-MODIFIED:20260121T210536Z
UID:10001358-1812886200-1812888000@immanuelpresby.org
SUMMARY:Coffee & Conversation
DESCRIPTION:Following worship on Sunday morning we gather for coffee\, snacks and conversation.
URL:https://immanuelpresby.org/event/coffee-conversation-2/2027-06-13/
LOCATION:Immanuel Presbyterian\, 3445 Clifton Avenue\, Cincinnati\, OH\, 45220
END:VEVENT
BEGIN:VEVENT
DTSTART;TZID=America/New_York:20270616T130000
DTEND;TZID=America/New_York:20270616T140000
DTSTAMP:20260420T185820
CREATED:20260209T175219Z
LAST-MODIFIED:20260209T175219Z
UID:10000871-1813150800-1813154400@immanuelpresby.org
SUMMARY:Bible Study
DESCRIPTION:Our virtual Bible study brings folks together each Wednesday for conversation\, study and reflection. Contact the office to learn more and to request the Zoom meeting information.
URL:https://immanuelpresby.org/event/bible-study-3-2-2/2027-06-16/
LOCATION:
END:VEVENT
BEGIN:VEVENT
DTSTART;TZID=America/New_York:20270620T103000
DTEND;TZID=America/New_York:20270620T113000
DTSTAMP:20260420T185820
CREATED:20260209T175533Z
LAST-MODIFIED:20260209T175556Z
UID:10000735-1813487400-1813491000@immanuelpresby.org
SUMMARY:Worship
DESCRIPTION:We welcome you to our weekly Sunday morning worship service in our sanctuary or online.
URL:https://immanuelpresby.org/event/worship-19-2-2/2027-06-20/
LOCATION:Immanuel Presbyterian\, 3445 Clifton Avenue\, Cincinnati\, OH\, 45220
END:VEVENT
BEGIN:VEVENT
DTSTART;TZID=America/New_York:20270620T113000
DTEND;TZID=America/New_York:20270620T120000
DTSTAMP:20260420T185820
CREATED:20260121T210536Z
LAST-MODIFIED:20260121T210536Z
UID:10001359-1813491000-1813492800@immanuelpresby.org
SUMMARY:Coffee & Conversation
DESCRIPTION:Following worship on Sunday morning we gather for coffee\, snacks and conversation.
URL:https://immanuelpresby.org/event/coffee-conversation-2/2027-06-20/
LOCATION:Immanuel Presbyterian\, 3445 Clifton Avenue\, Cincinnati\, OH\, 45220
END:VEVENT
BEGIN:VEVENT
DTSTART;TZID=America/New_York:20270623T130000
DTEND;TZID=America/New_York:20270623T140000
DTSTAMP:20260420T185820
CREATED:20260209T175219Z
LAST-MODIFIED:20260209T175219Z
UID:10000872-1813755600-1813759200@immanuelpresby.org
SUMMARY:Bible Study
DESCRIPTION:Our virtual Bible study brings folks together each Wednesday for conversation\, study and reflection. Contact the office to learn more and to request the Zoom meeting information.
URL:https://immanuelpresby.org/event/bible-study-3-2-2/2027-06-23/
LOCATION:
END:VEVENT
BEGIN:VEVENT
DTSTART;TZID=America/New_York:20270627T103000
DTEND;TZID=America/New_York:20270627T113000
DTSTAMP:20260420T185820
CREATED:20260209T175533Z
LAST-MODIFIED:20260209T175556Z
UID:10000736-1814092200-1814095800@immanuelpresby.org
SUMMARY:Worship
DESCRIPTION:We welcome you to our weekly Sunday morning worship service in our sanctuary or online.
URL:https://immanuelpresby.org/event/worship-19-2-2/2027-06-27/
LOCATION:Immanuel Presbyterian\, 3445 Clifton Avenue\, Cincinnati\, OH\, 45220
END:VEVENT
BEGIN:VEVENT
DTSTART;TZID=America/New_York:20270627T113000
DTEND;TZID=America/New_York:20270627T120000
DTSTAMP:20260420T185821
CREATED:20260121T210536Z
LAST-MODIFIED:20260121T210536Z
UID:10001360-1814095800-1814097600@immanuelpresby.org
SUMMARY:Coffee & Conversation
DESCRIPTION:Following worship on Sunday morning we gather for coffee\, snacks and conversation.
URL:https://immanuelpresby.org/event/coffee-conversation-2/2027-06-27/
LOCATION:Immanuel Presbyterian\, 3445 Clifton Avenue\, Cincinnati\, OH\, 45220
END:VEVENT
BEGIN:VEVENT
DTSTART;TZID=America/New_York:20270630T130000
DTEND;TZID=America/New_York:20270630T140000
DTSTAMP:20260420T185821
CREATED:20260209T175219Z
LAST-MODIFIED:20260209T175219Z
UID:10000873-1814360400-1814364000@immanuelpresby.org
SUMMARY:Bible Study
DESCRIPTION:Our virtual Bible study brings folks together each Wednesday for conversation\, study and reflection. Contact the office to learn more and to request the Zoom meeting information.
URL:https://immanuelpresby.org/event/bible-study-3-2-2/2027-06-30/
LOCATION:
END:VEVENT
BEGIN:VEVENT
DTSTART;TZID=America/New_York:20270704T103000
DTEND;TZID=America/New_York:20270704T113000
DTSTAMP:20260420T185821
CREATED:20260209T175533Z
LAST-MODIFIED:20260209T175556Z
UID:10000737-1814697000-1814700600@immanuelpresby.org
SUMMARY:Worship
DESCRIPTION:We welcome you to our weekly Sunday morning worship service in our sanctuary or online.
URL:https://immanuelpresby.org/event/worship-19-2-2/2027-07-04/
LOCATION:Immanuel Presbyterian\, 3445 Clifton Avenue\, Cincinnati\, OH\, 45220
END:VEVENT
BEGIN:VEVENT
DTSTART;TZID=America/New_York:20270704T113000
DTEND;TZID=America/New_York:20270704T120000
DTSTAMP:20260420T185821
CREATED:20260121T210536Z
LAST-MODIFIED:20260121T210536Z
UID:10001361-1814700600-1814702400@immanuelpresby.org
SUMMARY:Coffee & Conversation
DESCRIPTION:Following worship on Sunday morning we gather for coffee\, snacks and conversation.
URL:https://immanuelpresby.org/event/coffee-conversation-2/2027-07-04/
LOCATION:Immanuel Presbyterian\, 3445 Clifton Avenue\, Cincinnati\, OH\, 45220
END:VEVENT
BEGIN:VEVENT
DTSTART;TZID=America/New_York:20270707T130000
DTEND;TZID=America/New_York:20270707T140000
DTSTAMP:20260420T185821
CREATED:20260209T175219Z
LAST-MODIFIED:20260209T175219Z
UID:10000874-1814965200-1814968800@immanuelpresby.org
SUMMARY:Bible Study
DESCRIPTION:Our virtual Bible study brings folks together each Wednesday for conversation\, study and reflection. Contact the office to learn more and to request the Zoom meeting information.
URL:https://immanuelpresby.org/event/bible-study-3-2-2/2027-07-07/
LOCATION:
END:VEVENT
BEGIN:VEVENT
DTSTART;TZID=America/New_York:20270711T103000
DTEND;TZID=America/New_York:20270711T113000
DTSTAMP:20260420T185821
CREATED:20260209T175533Z
LAST-MODIFIED:20260209T175556Z
UID:10000738-1815301800-1815305400@immanuelpresby.org
SUMMARY:Worship
DESCRIPTION:We welcome you to our weekly Sunday morning worship service in our sanctuary or online.
URL:https://immanuelpresby.org/event/worship-19-2-2/2027-07-11/
LOCATION:Immanuel Presbyterian\, 3445 Clifton Avenue\, Cincinnati\, OH\, 45220
END:VEVENT
BEGIN:VEVENT
DTSTART;TZID=America/New_York:20270711T113000
DTEND;TZID=America/New_York:20270711T120000
DTSTAMP:20260420T185822
CREATED:20260121T210536Z
LAST-MODIFIED:20260121T210536Z
UID:10001362-1815305400-1815307200@immanuelpresby.org
SUMMARY:Coffee & Conversation
DESCRIPTION:Following worship on Sunday morning we gather for coffee\, snacks and conversation.
URL:https://immanuelpresby.org/event/coffee-conversation-2/2027-07-11/
LOCATION:Immanuel Presbyterian\, 3445 Clifton Avenue\, Cincinnati\, OH\, 45220
END:VEVENT
BEGIN:VEVENT
DTSTART;TZID=America/New_York:20270714T130000
DTEND;TZID=America/New_York:20270714T140000
DTSTAMP:20260420T185822
CREATED:20260209T175219Z
LAST-MODIFIED:20260209T175219Z
UID:10000875-1815570000-1815573600@immanuelpresby.org
SUMMARY:Bible Study
DESCRIPTION:Our virtual Bible study brings folks together each Wednesday for conversation\, study and reflection. Contact the office to learn more and to request the Zoom meeting information.
URL:https://immanuelpresby.org/event/bible-study-3-2-2/2027-07-14/
LOCATION:
END:VEVENT
END:VCALENDAR